BEGIN:VCALENDAR
VERSION:2.0
PRODID:-//spbstu.ru//ical//RU
NAME:Расписание группы 3130801/30601
X-WR-CALNAME:Расписание группы 3130801/30601
TIMEZONE-ID:Europe/Moscow
X-WR-TIMEZONE:Europe/Moscow
BEGIN:VEVENT
UID:j33p@192.168.245.71:3006
SEQUENCE:0
DTSTAMP:20260421T152513Z
DTSTART:20260513T130000Z
DTEND:20260513T144000Z
SUMMARY:Основания и фундаменты
LOCATION:ГЗ 215
END:VEVENT
BEGIN:VEVENT
UID:sjgm@192.168.245.71:3006
SEQUENCE:0
DTSTAMP:20260421T152513Z
DTSTART:20260513T150000Z
DTEND:20260513T164000Z
SUMMARY:Карьерная адаптивность
LOCATION:ГЗ 301 К
END:VEVENT
BEGIN:VEVENT
UID:pwzm@192.168.245.71:3006
SEQUENCE:0
DTSTAMP:20260421T152513Z
DTSTART:20260514T070000Z
DTEND:20260514T084000Z
SUMMARY:Военная подготовка
LOCATION:Военная каф. кафедра
END:VEVENT
BEGIN:VEVENT
UID:unnl@192.168.245.71:3006
SEQUENCE:0
DTSTAMP:20260421T152513Z
DTSTART:20260514T090000Z
DTEND:20260514T104000Z
SUMMARY:Военная подготовка
LOCATION:Военная каф. кафедра
END:VEVENT
BEGIN:VEVENT
UID:2x43@192.168.245.71:3006
SEQUENCE:0
DTSTAMP:20260421T152513Z
DTSTART:20260514T110000Z
DTEND:20260514T124000Z
SUMMARY:Военная подготовка
LOCATION:Военная каф. кафедра
END:VEVENT
BEGIN:VEVENT
UID:6pcn@192.168.245.71:3006
SEQUENCE:0
DTSTAMP:20260421T152513Z
DTSTART:20260515T070000Z
DTEND:20260515T084000Z
SUMMARY:Генеративное проектирование зданий и сооружений
LOCATION:ГК-2 407
END:VEVENT
BEGIN:VEVENT
UID:sefh@192.168.245.71:3006
SEQUENCE:0
DTSTAMP:20260421T152513Z
DTSTART:20260515T090000Z
DTEND:20260515T104000Z
SUMMARY:Генеративное проектирование зданий и сооружений
LOCATION:ГК-2 504
END:VEVENT
BEGIN:VEVENT
UID:swct@192.168.245.71:3006
SEQUENCE:0
DTSTAMP:20260421T152513Z
DTSTART:20260515T110000Z
DTEND:20260515T124000Z
SUMMARY:Металлические конструкции
LOCATION:ГЗ 215
END:VEVENT
BEGIN:VEVENT
UID:l2eu@192.168.245.71:3006
SEQUENCE:0
DTSTAMP:20260421T152513Z
DTSTART:20260515T130000Z
DTEND:20260515T144000Z
SUMMARY:Металлические конструкции
LOCATION:ГК-2 401
END:VEVENT
END:VCALENDAR