BEGIN:VCALENDAR
VERSION:2.0
PRODID:-//spbstu.ru//ical//RU
NAME:Расписание группы 3130801/30602
X-WR-CALNAME:Расписание группы 3130801/30602
TIMEZONE-ID:Europe/Moscow
X-WR-TIMEZONE:Europe/Moscow
BEGIN:VEVENT
UID:v5ea@192.168.245.71:3006
SEQUENCE:0
DTSTAMP:20260423T031701Z
DTSTART:20260310T150000Z
DTEND:20260310T164000Z
SUMMARY:Строительная механика
LOCATION:ГК-2 513
END:VEVENT
BEGIN:VEVENT
UID:50s6@192.168.245.71:3006
SEQUENCE:0
DTSTAMP:20260423T031701Z
DTSTART:20260311T130000Z
DTEND:20260311T144000Z
SUMMARY:Основания и фундаменты
LOCATION:ГЗ 215
END:VEVENT
BEGIN:VEVENT
UID:yx8v@192.168.245.71:3006
SEQUENCE:0
DTSTAMP:20260423T031701Z
DTSTART:20260312T070000Z
DTEND:20260312T084000Z
SUMMARY:Военная подготовка
LOCATION:Военная каф. кафедра
END:VEVENT
BEGIN:VEVENT
UID:jl7g@192.168.245.71:3006
SEQUENCE:0
DTSTAMP:20260423T031701Z
DTSTART:20260312T090000Z
DTEND:20260312T104000Z
SUMMARY:Военная подготовка
LOCATION:Военная каф. кафедра
END:VEVENT
BEGIN:VEVENT
UID:4na0@192.168.245.71:3006
SEQUENCE:0
DTSTAMP:20260423T031701Z
DTSTART:20260312T110000Z
DTEND:20260312T124000Z
SUMMARY:Военная подготовка
LOCATION:Военная каф. кафедра
END:VEVENT
BEGIN:VEVENT
UID:fz8y@192.168.245.71:3006
SEQUENCE:0
DTSTAMP:20260423T031701Z
DTSTART:20260312T130000Z
DTEND:20260312T144000Z
SUMMARY:Водоснабжение и водоотведение
LOCATION:ГК 123б
END:VEVENT
BEGIN:VEVENT
UID:qqz9@192.168.245.71:3006
SEQUENCE:0
DTSTAMP:20260423T031701Z
DTSTART:20260313T070000Z
DTEND:20260313T084000Z
SUMMARY:Генеративное проектирование зданий и сооружений
LOCATION:ГК-2 504
END:VEVENT
BEGIN:VEVENT
UID:g8u4@192.168.245.71:3006
SEQUENCE:0
DTSTAMP:20260423T031701Z
DTSTART:20260313T090000Z
DTEND:20260313T104000Z
SUMMARY:Технологические процессы в строительстве
LOCATION:ГК-2 513
END:VEVENT
BEGIN:VEVENT
UID:v4zp@192.168.245.71:3006
SEQUENCE:0
DTSTAMP:20260423T031701Z
DTSTART:20260313T110000Z
DTEND:20260313T124000Z
SUMMARY:Металлические конструкции
LOCATION:ГЗ 215
END:VEVENT
BEGIN:VEVENT
UID:j8zs@192.168.245.71:3006
SEQUENCE:0
DTSTAMP:20260423T031701Z
DTSTART:20260314T090000Z
DTEND:20260314T104000Z
SUMMARY:Проектирование гражданских зданий
LOCATION:ГК-2 504
END:VEVENT
BEGIN:VEVENT
UID:2ct4@192.168.245.71:3006
SEQUENCE:0
DTSTAMP:20260423T031701Z
DTSTART:20260314T110000Z
DTEND:20260314T124000Z
SUMMARY:Проектирование гражданских зданий
LOCATION:ГК-2 504
END:VEVENT
BEGIN:VEVENT
UID:quit@192.168.245.71:3006
SEQUENCE:0
DTSTAMP:20260423T031701Z
DTSTART:20260314T130000Z
DTEND:20260314T144000Z
SUMMARY:Железобетонные конструкции
LOCATION:ГК-2 504
END:VEVENT
BEGIN:VEVENT
UID:j848@192.168.245.71:3006
SEQUENCE:0
DTSTAMP:20260423T031701Z
DTSTART:20260314T130000Z
DTEND:20260314T144000Z
SUMMARY:Железобетонные конструкции
LOCATION:ГК-2 504
END:VEVENT
END:VCALENDAR