BEGIN:VCALENDAR
VERSION:2.0
PRODID:-//spbstu.ru//ical//RU
NAME:Расписание группы 3130801/30604
X-WR-CALNAME:Расписание группы 3130801/30604
TIMEZONE-ID:Europe/Moscow
X-WR-TIMEZONE:Europe/Moscow
BEGIN:VEVENT
UID:lald@192.168.245.71:3006
SEQUENCE:0
DTSTAMP:20260426T003725Z
DTSTART:20251013T070000Z
DTEND:20251013T084000Z
SUMMARY:Водоснабжение и водоотведение
LOCATION:ГЗ 257
END:VEVENT
BEGIN:VEVENT
UID:vloo@192.168.245.71:3006
SEQUENCE:0
DTSTAMP:20260426T003725Z
DTSTART:20251013T090000Z
DTEND:20251013T104000Z
SUMMARY:Профессионально-ориентированный английский язык. Строительные маши
 ны и оборудование
LOCATION:ГК-2 513
END:VEVENT
BEGIN:VEVENT
UID:wfwu@192.168.245.71:3006
SEQUENCE:0
DTSTAMP:20260426T003725Z
DTSTART:20251013T110000Z
DTEND:20251013T124000Z
SUMMARY:Механика грунтов
LOCATION:ГЗ 215
END:VEVENT
BEGIN:VEVENT
UID:0uw1@192.168.245.71:3006
SEQUENCE:0
DTSTAMP:20260426T003725Z
DTSTART:20251013T130000Z
DTEND:20251013T144000Z
SUMMARY:Железобетонные конструкции
LOCATION:ГК 113
END:VEVENT
BEGIN:VEVENT
UID:rv9v@192.168.245.71:3006
SEQUENCE:0
DTSTAMP:20260426T003725Z
DTSTART:20251014T070000Z
DTEND:20251014T084000Z
SUMMARY:Автоматизированный расчет строительных конструкций
LOCATION:ГК-2 514
END:VEVENT
BEGIN:VEVENT
UID:krzp@192.168.245.71:3006
SEQUENCE:0
DTSTAMP:20260426T003725Z
DTSTART:20251014T090000Z
DTEND:20251014T104000Z
SUMMARY:Профессионально-ориентированный английский язык. Строительные маши
 ны и оборудование
LOCATION:ГК-2 404
END:VEVENT
BEGIN:VEVENT
UID:g67n@192.168.245.71:3006
SEQUENCE:0
DTSTAMP:20260426T003725Z
DTSTART:20251014T110000Z
DTEND:20251014T124000Z
SUMMARY:Строительная механика
LOCATION:ГК-2 506
END:VEVENT
BEGIN:VEVENT
UID:0i3z@192.168.245.71:3006
SEQUENCE:0
DTSTAMP:20260426T003725Z
DTSTART:20251014T130000Z
DTEND:20251014T144000Z
SUMMARY:Механика грунтов
LOCATION:ГК-2 315
END:VEVENT
BEGIN:VEVENT
UID:8yto@192.168.245.71:3006
SEQUENCE:0
DTSTAMP:20260426T003725Z
DTSTART:20251016T070000Z
DTEND:20251016T084000Z
SUMMARY:Военная подготовка
LOCATION:Военная каф. кафедра
END:VEVENT
BEGIN:VEVENT
UID:ivpf@192.168.245.71:3006
SEQUENCE:0
DTSTAMP:20260426T003725Z
DTSTART:20251016T090000Z
DTEND:20251016T104000Z
SUMMARY:Военная подготовка
LOCATION:Военная каф. кафедра
END:VEVENT
BEGIN:VEVENT
UID:iv7y@192.168.245.71:3006
SEQUENCE:0
DTSTAMP:20260426T003725Z
DTSTART:20251016T110000Z
DTEND:20251016T124000Z
SUMMARY:Военная подготовка
LOCATION:Военная каф. кафедра
END:VEVENT
BEGIN:VEVENT
UID:mou6@192.168.245.71:3006
SEQUENCE:0
DTSTAMP:20260426T003725Z
DTSTART:20251018T070000Z
DTEND:20251018T084000Z
SUMMARY:Военная подготовка
LOCATION:Военная каф. кафедра
END:VEVENT
BEGIN:VEVENT
UID:yr3w@192.168.245.71:3006
SEQUENCE:0
DTSTAMP:20260426T003725Z
DTSTART:20251018T090000Z
DTEND:20251018T104000Z
SUMMARY:Железобетонные конструкции
LOCATION:ГК-2 407
END:VEVENT
BEGIN:VEVENT
UID:ysxc@192.168.245.71:3006
SEQUENCE:0
DTSTAMP:20260426T003725Z
DTSTART:20251018T110000Z
DTEND:20251018T124000Z
SUMMARY:Иностранный язык. Профессионально-ориентированный курс
LOCATION:ГК 230
END:VEVENT
BEGIN:VEVENT
UID:pmpz@192.168.245.71:3006
SEQUENCE:0
DTSTAMP:20260426T003725Z
DTSTART:20251018T130000Z
DTEND:20251018T144000Z
SUMMARY:Проектирование гражданских зданий
LOCATION:ГК-2 512
END:VEVENT
END:VCALENDAR