BEGIN:VCALENDAR
VERSION:2.0
PRODID:-//spbstu.ru//ical//RU
NAME:Расписание группы 3130801/30604
X-WR-CALNAME:Расписание группы 3130801/30604
TIMEZONE-ID:Europe/Moscow
X-WR-TIMEZONE:Europe/Moscow
BEGIN:VEVENT
UID:svs3@192.168.245.71:3006
SEQUENCE:0
DTSTAMP:20260425T135053Z
DTSTART:20251027T070000Z
DTEND:20251027T084000Z
SUMMARY:Водоснабжение и водоотведение
LOCATION:ГЗ 257
END:VEVENT
BEGIN:VEVENT
UID:igzm@192.168.245.71:3006
SEQUENCE:0
DTSTAMP:20260425T135053Z
DTSTART:20251027T090000Z
DTEND:20251027T104000Z
SUMMARY:Профессионально-ориентированный английский язык. Строительные маши
 ны и оборудование
LOCATION:ГК-2 513
END:VEVENT
BEGIN:VEVENT
UID:8ehb@192.168.245.71:3006
SEQUENCE:0
DTSTAMP:20260425T135053Z
DTSTART:20251027T110000Z
DTEND:20251027T124000Z
SUMMARY:Механика грунтов
LOCATION:ГЗ 215
END:VEVENT
BEGIN:VEVENT
UID:r51m@192.168.245.71:3006
SEQUENCE:0
DTSTAMP:20260425T135053Z
DTSTART:20251027T130000Z
DTEND:20251027T144000Z
SUMMARY:Железобетонные конструкции
LOCATION:ГК 113
END:VEVENT
BEGIN:VEVENT
UID:wy13@192.168.245.71:3006
SEQUENCE:0
DTSTAMP:20260425T135053Z
DTSTART:20251028T070000Z
DTEND:20251028T084000Z
SUMMARY:Автоматизированный расчет строительных конструкций
LOCATION:ГК-2 514
END:VEVENT
BEGIN:VEVENT
UID:o5ab@192.168.245.71:3006
SEQUENCE:0
DTSTAMP:20260425T135053Z
DTSTART:20251028T090000Z
DTEND:20251028T104000Z
SUMMARY:Профессионально-ориентированный английский язык. Строительные маши
 ны и оборудование
LOCATION:ГК-2 404
END:VEVENT
BEGIN:VEVENT
UID:sl4c@192.168.245.71:3006
SEQUENCE:0
DTSTAMP:20260425T135053Z
DTSTART:20251028T110000Z
DTEND:20251028T124000Z
SUMMARY:Строительная механика
LOCATION:ГК-2 506
END:VEVENT
BEGIN:VEVENT
UID:6hok@192.168.245.71:3006
SEQUENCE:0
DTSTAMP:20260425T135053Z
DTSTART:20251028T130000Z
DTEND:20251028T144000Z
SUMMARY:Механика грунтов
LOCATION:ГК-2 315
END:VEVENT
BEGIN:VEVENT
UID:sy21@192.168.245.71:3006
SEQUENCE:0
DTSTAMP:20260425T135053Z
DTSTART:20251028T150000Z
DTEND:20251028T164000Z
SUMMARY:Карьерная адаптивность
LOCATION:ГЗ 329
END:VEVENT
BEGIN:VEVENT
UID:e730@192.168.245.71:3006
SEQUENCE:0
DTSTAMP:20260425T135053Z
DTSTART:20251030T070000Z
DTEND:20251030T084000Z
SUMMARY:Военная подготовка
LOCATION:Военная каф. кафедра
END:VEVENT
BEGIN:VEVENT
UID:5bl8@192.168.245.71:3006
SEQUENCE:0
DTSTAMP:20260425T135053Z
DTSTART:20251030T090000Z
DTEND:20251030T104000Z
SUMMARY:Военная подготовка
LOCATION:Военная каф. кафедра
END:VEVENT
BEGIN:VEVENT
UID:csnv@192.168.245.71:3006
SEQUENCE:0
DTSTAMP:20260425T135053Z
DTSTART:20251030T110000Z
DTEND:20251030T124000Z
SUMMARY:Военная подготовка
LOCATION:Военная каф. кафедра
END:VEVENT
BEGIN:VEVENT
UID:ypec@192.168.245.71:3006
SEQUENCE:0
DTSTAMP:20260425T135053Z
DTSTART:20251101T070000Z
DTEND:20251101T084000Z
SUMMARY:Военная подготовка
LOCATION:Военная каф. кафедра
END:VEVENT
BEGIN:VEVENT
UID:wt0r@192.168.245.71:3006
SEQUENCE:0
DTSTAMP:20260425T135053Z
DTSTART:20251101T090000Z
DTEND:20251101T104000Z
SUMMARY:Железобетонные конструкции
LOCATION:ГК-2 407
END:VEVENT
BEGIN:VEVENT
UID:wovr@192.168.245.71:3006
SEQUENCE:0
DTSTAMP:20260425T135053Z
DTSTART:20251101T110000Z
DTEND:20251101T124000Z
SUMMARY:Иностранный язык. Профессионально-ориентированный курс
LOCATION:ГК 230
END:VEVENT
BEGIN:VEVENT
UID:mahf@192.168.245.71:3006
SEQUENCE:0
DTSTAMP:20260425T135053Z
DTSTART:20251101T130000Z
DTEND:20251101T144000Z
SUMMARY:Проектирование гражданских зданий
LOCATION:ГК-2 512
END:VEVENT
END:VCALENDAR