BEGIN:VCALENDAR
VERSION:2.0
PRODID:-//spbstu.ru//ical//RU
NAME:Расписание группы 3130801/30604
X-WR-CALNAME:Расписание группы 3130801/30604
TIMEZONE-ID:Europe/Moscow
X-WR-TIMEZONE:Europe/Moscow
BEGIN:VEVENT
UID:tbb8@192.168.245.71:3006
SEQUENCE:0
DTSTAMP:20260425T134950Z
DTSTART:20251103T070000Z
DTEND:20251103T084000Z
SUMMARY:Проектирование гражданских зданий
LOCATION:ГК-2 407
END:VEVENT
BEGIN:VEVENT
UID:bjr2@192.168.245.71:3006
SEQUENCE:0
DTSTAMP:20260425T134950Z
DTSTART:20251103T090000Z
DTEND:20251103T104000Z
SUMMARY:Строительная механика
LOCATION:3 к. 201
END:VEVENT
BEGIN:VEVENT
UID:xvep@192.168.245.71:3006
SEQUENCE:0
DTSTAMP:20260425T134950Z
DTSTART:20251103T110000Z
DTEND:20251103T124000Z
SUMMARY:Механика грунтов
LOCATION:ГЗ 215
END:VEVENT
BEGIN:VEVENT
UID:xbvj@192.168.245.71:3006
SEQUENCE:0
DTSTAMP:20260425T134950Z
DTSTART:20251106T070000Z
DTEND:20251106T084000Z
SUMMARY:Военная подготовка
LOCATION:Военная каф. кафедра
END:VEVENT
BEGIN:VEVENT
UID:wdux@192.168.245.71:3006
SEQUENCE:0
DTSTAMP:20260425T134950Z
DTSTART:20251106T090000Z
DTEND:20251106T104000Z
SUMMARY:Военная подготовка
LOCATION:Военная каф. кафедра
END:VEVENT
BEGIN:VEVENT
UID:bgle@192.168.245.71:3006
SEQUENCE:0
DTSTAMP:20260425T134950Z
DTSTART:20251106T110000Z
DTEND:20251106T124000Z
SUMMARY:Военная подготовка
LOCATION:Военная каф. кафедра
END:VEVENT
BEGIN:VEVENT
UID:mqod@192.168.245.71:3006
SEQUENCE:0
DTSTAMP:20260425T134950Z
DTSTART:20251108T070000Z
DTEND:20251108T084000Z
SUMMARY:Военная подготовка
LOCATION:Военная каф. кафедра
END:VEVENT
BEGIN:VEVENT
UID:u6uc@192.168.245.71:3006
SEQUENCE:0
DTSTAMP:20260425T134950Z
DTSTART:20251108T090000Z
DTEND:20251108T104000Z
SUMMARY:Железобетонные конструкции
LOCATION:ГК-2 407
END:VEVENT
BEGIN:VEVENT
UID:20vz@192.168.245.71:3006
SEQUENCE:0
DTSTAMP:20260425T134950Z
DTSTART:20251108T110000Z
DTEND:20251108T124000Z
SUMMARY:Иностранный язык. Профессионально-ориентированный курс
LOCATION:ГК 230
END:VEVENT
BEGIN:VEVENT
UID:p6ur@192.168.245.71:3006
SEQUENCE:0
DTSTAMP:20260425T134950Z
DTSTART:20251108T130000Z
DTEND:20251108T144000Z
SUMMARY:Проектирование гражданских зданий
LOCATION:ГК-2 512
END:VEVENT
END:VCALENDAR