BEGIN:VCALENDAR
VERSION:2.0
PRODID:-//spbstu.ru//ical//RU
NAME:Расписание группы 3130801/30604
X-WR-CALNAME:Расписание группы 3130801/30604
TIMEZONE-ID:Europe/Moscow
X-WR-TIMEZONE:Europe/Moscow
BEGIN:VEVENT
UID:w4re@192.168.245.71:3006
SEQUENCE:0
DTSTAMP:20260426T042212Z
DTSTART:20250929T070000Z
DTEND:20250929T084000Z
SUMMARY:Водоснабжение и водоотведение
LOCATION:ГЗ 257
END:VEVENT
BEGIN:VEVENT
UID:l57b@192.168.245.71:3006
SEQUENCE:0
DTSTAMP:20260426T042212Z
DTSTART:20250929T090000Z
DTEND:20250929T104000Z
SUMMARY:Профессионально-ориентированный английский язык. Строительные маши
 ны и оборудование
LOCATION:ГК-2 513
END:VEVENT
BEGIN:VEVENT
UID:qimp@192.168.245.71:3006
SEQUENCE:0
DTSTAMP:20260426T042212Z
DTSTART:20250929T110000Z
DTEND:20250929T124000Z
SUMMARY:Механика грунтов
LOCATION:ГЗ 215
END:VEVENT
BEGIN:VEVENT
UID:tskn@192.168.245.71:3006
SEQUENCE:0
DTSTAMP:20260426T042212Z
DTSTART:20250929T130000Z
DTEND:20250929T144000Z
SUMMARY:Железобетонные конструкции
LOCATION:ГК 113
END:VEVENT
BEGIN:VEVENT
UID:rvyh@192.168.245.71:3006
SEQUENCE:0
DTSTAMP:20260426T042212Z
DTSTART:20250930T070000Z
DTEND:20250930T084000Z
SUMMARY:Автоматизированный расчет строительных конструкций
LOCATION:ГК-2 514
END:VEVENT
BEGIN:VEVENT
UID:k5vx@192.168.245.71:3006
SEQUENCE:0
DTSTAMP:20260426T042212Z
DTSTART:20250930T090000Z
DTEND:20250930T104000Z
SUMMARY:Профессионально-ориентированный английский язык. Строительные маши
 ны и оборудование
LOCATION:ГК-2 404
END:VEVENT
BEGIN:VEVENT
UID:q2py@192.168.245.71:3006
SEQUENCE:0
DTSTAMP:20260426T042212Z
DTSTART:20250930T110000Z
DTEND:20250930T124000Z
SUMMARY:Строительная механика
LOCATION:ГК-2 506
END:VEVENT
BEGIN:VEVENT
UID:n8py@192.168.245.71:3006
SEQUENCE:0
DTSTAMP:20260426T042212Z
DTSTART:20250930T130000Z
DTEND:20250930T144000Z
SUMMARY:Механика грунтов
LOCATION:ГК-2 315
END:VEVENT
BEGIN:VEVENT
UID:inav@192.168.245.71:3006
SEQUENCE:0
DTSTAMP:20260426T042212Z
DTSTART:20251002T070000Z
DTEND:20251002T084000Z
SUMMARY:Военная подготовка
LOCATION:Военная каф. кафедра
END:VEVENT
BEGIN:VEVENT
UID:4uby@192.168.245.71:3006
SEQUENCE:0
DTSTAMP:20260426T042212Z
DTSTART:20251002T090000Z
DTEND:20251002T104000Z
SUMMARY:Военная подготовка
LOCATION:Военная каф. кафедра
END:VEVENT
BEGIN:VEVENT
UID:z5si@192.168.245.71:3006
SEQUENCE:0
DTSTAMP:20260426T042212Z
DTSTART:20251002T110000Z
DTEND:20251002T124000Z
SUMMARY:Военная подготовка
LOCATION:Военная каф. кафедра
END:VEVENT
BEGIN:VEVENT
UID:zt2n@192.168.245.71:3006
SEQUENCE:0
DTSTAMP:20260426T042212Z
DTSTART:20251004T070000Z
DTEND:20251004T084000Z
SUMMARY:Военная подготовка
LOCATION:Военная каф. кафедра
END:VEVENT
BEGIN:VEVENT
UID:el2h@192.168.245.71:3006
SEQUENCE:0
DTSTAMP:20260426T042212Z
DTSTART:20251004T090000Z
DTEND:20251004T104000Z
SUMMARY:Железобетонные конструкции
LOCATION:ГК-2 407
END:VEVENT
BEGIN:VEVENT
UID:buyr@192.168.245.71:3006
SEQUENCE:0
DTSTAMP:20260426T042212Z
DTSTART:20251004T110000Z
DTEND:20251004T124000Z
SUMMARY:Иностранный язык. Профессионально-ориентированный курс
LOCATION:ГК 230
END:VEVENT
BEGIN:VEVENT
UID:x499@192.168.245.71:3006
SEQUENCE:0
DTSTAMP:20260426T042212Z
DTSTART:20251004T130000Z
DTEND:20251004T144000Z
SUMMARY:Проектирование гражданских зданий
LOCATION:ГК-2 512
END:VEVENT
END:VCALENDAR