BEGIN:VCALENDAR
VERSION:2.0
PRODID:-//spbstu.ru//ical//RU
NAME:Расписание группы 3130801/31102
X-WR-CALNAME:Расписание группы 3130801/31102
TIMEZONE-ID:Europe/Moscow
X-WR-TIMEZONE:Europe/Moscow
BEGIN:VEVENT
UID:9mfu@192.168.245.71:3006
SEQUENCE:0
DTSTAMP:20260424T051723Z
DTSTART:20251229T090000Z
DTEND:20251229T130000Z
SUMMARY:Механика грунтов
LOCATION:ГК-2 311
END:VEVENT
END:VCALENDAR