BEGIN:VCALENDAR
VERSION:2.0
PRODID:-//spbstu.ru//ical//RU
NAME:Расписание группы 3132001/30702
X-WR-CALNAME:Расписание группы 3132001/30702
TIMEZONE-ID:Europe/Moscow
X-WR-TIMEZONE:Europe/Moscow
BEGIN:VEVENT
UID:xz1d@192.168.245.71:3006
SEQUENCE:0
DTSTAMP:20260424T175501Z
DTSTART:20251208T110000Z
DTEND:20251208T124000Z
SUMMARY:Гигиена труда и производственная санитария
LOCATION:ГК 106
END:VEVENT
BEGIN:VEVENT
UID:f1uq@192.168.245.71:3006
SEQUENCE:0
DTSTAMP:20260424T175501Z
DTSTART:20251208T130000Z
DTEND:20251208T144000Z
SUMMARY:Защита в чрезвычайных ситуациях
LOCATION:ГК 439
END:VEVENT
BEGIN:VEVENT
UID:1bjr@192.168.245.71:3006
SEQUENCE:0
DTSTAMP:20260424T175501Z
DTSTART:20251208T150000Z
DTEND:20251208T164000Z
SUMMARY:Теория горения и взрыва
LOCATION:ГК 316
END:VEVENT
BEGIN:VEVENT
UID:eq7y@192.168.245.71:3006
SEQUENCE:0
DTSTAMP:20260424T175501Z
DTSTART:20251209T110000Z
DTEND:20251209T124000Z
SUMMARY:Информационные технологии в безопасности
LOCATION:ГК 316
END:VEVENT
BEGIN:VEVENT
UID:u2mi@192.168.245.71:3006
SEQUENCE:0
DTSTAMP:20260424T175501Z
DTSTART:20251209T130000Z
DTEND:20251209T144000Z
SUMMARY:Аналитика данных техносферной безопасности
LOCATION:ГК 317
END:VEVENT
BEGIN:VEVENT
UID:lrom@192.168.245.71:3006
SEQUENCE:0
DTSTAMP:20260424T175501Z
DTSTART:20251209T150000Z
DTEND:20251209T164000Z
SUMMARY:Теория горения и взрыва
LOCATION:ГК 316
END:VEVENT
BEGIN:VEVENT
UID:qree@192.168.245.71:3006
SEQUENCE:0
DTSTAMP:20260424T175501Z
DTSTART:20251210T110000Z
DTEND:20251210T124000Z
SUMMARY:Аналитика данных техносферной безопасности
LOCATION:ГК 317
END:VEVENT
BEGIN:VEVENT
UID:morv@192.168.245.71:3006
SEQUENCE:0
DTSTAMP:20260424T175501Z
DTSTART:20251210T130000Z
DTEND:20251210T144000Z
SUMMARY:Материаловедение
LOCATION:ГК 449
END:VEVENT
BEGIN:VEVENT
UID:6u9h@192.168.245.71:3006
SEQUENCE:0
DTSTAMP:20260424T175501Z
DTSTART:20251210T150000Z
DTEND:20251210T164000Z
SUMMARY:Материаловедение
LOCATION:ГК 113
END:VEVENT
BEGIN:VEVENT
UID:dafz@192.168.245.71:3006
SEQUENCE:0
DTSTAMP:20260424T175501Z
DTSTART:20251212T090000Z
DTEND:20251212T104000Z
SUMMARY:Надежность технических систем и техногенный риск
LOCATION:ГК 317
END:VEVENT
BEGIN:VEVENT
UID:mzfn@192.168.245.71:3006
SEQUENCE:0
DTSTAMP:20260424T175501Z
DTSTART:20251212T110000Z
DTEND:20251212T124000Z
SUMMARY:Информационные технологии в безопасности
LOCATION:ГК 450
END:VEVENT
BEGIN:VEVENT
UID:ddsa@192.168.245.71:3006
SEQUENCE:0
DTSTAMP:20260424T175501Z
DTSTART:20251212T130000Z
DTEND:20251212T144000Z
SUMMARY:Надежность технических систем и техногенный риск
LOCATION:ГК 316
END:VEVENT
END:VCALENDAR