BEGIN:VCALENDAR
VERSION:2.0
PRODID:-//spbstu.ru//ical//RU
NAME:Расписание группы 3135401/30201
X-WR-CALNAME:Расписание группы 3135401/30201
TIMEZONE-ID:Europe/Moscow
X-WR-TIMEZONE:Europe/Moscow
BEGIN:VEVENT
UID:4w3n@192.168.245.71:3006
SEQUENCE:0
DTSTAMP:20260426T042530Z
DTSTART:20251027T060000Z
DTEND:20251027T084000Z
SUMMARY:Компьютерное обеспечение дизайн-проекта
LOCATION:ГЗ 303 (5)
END:VEVENT
BEGIN:VEVENT
UID:40ad@192.168.245.71:3006
SEQUENCE:0
DTSTAMP:20260426T042530Z
DTSTART:20251028T090000Z
DTEND:20251028T104000Z
SUMMARY:Технологии полиграфии
LOCATION:ГЗ 303 (5)
END:VEVENT
BEGIN:VEVENT
UID:c4e9@192.168.245.71:3006
SEQUENCE:0
DTSTAMP:20260426T042530Z
DTSTART:20251028T110000Z
DTEND:20251028T124000Z
SUMMARY:Технологии полиграфии
LOCATION:ГЗ 303 (5)
END:VEVENT
BEGIN:VEVENT
UID:u4qs@192.168.245.71:3006
SEQUENCE:0
DTSTAMP:20260426T042530Z
DTSTART:20251028T130000Z
DTEND:20251028T144000Z
SUMMARY:Дизайн-проектирование
LOCATION:НИК В2.20 (2)
END:VEVENT
BEGIN:VEVENT
UID:f2l1@192.168.245.71:3006
SEQUENCE:0
DTSTAMP:20260426T042530Z
DTSTART:20251028T150000Z
DTEND:20251028T164000Z
SUMMARY:Карьерная адаптивность
LOCATION:ГЗ 329
END:VEVENT
BEGIN:VEVENT
UID:bn5k@192.168.245.71:3006
SEQUENCE:0
DTSTAMP:20260426T042530Z
DTSTART:20251029T090000Z
DTEND:20251029T104000Z
SUMMARY:Визуальное искусство
LOCATION:НИК В2.20 (2)
END:VEVENT
BEGIN:VEVENT
UID:sdmb@192.168.245.71:3006
SEQUENCE:0
DTSTAMP:20260426T042530Z
DTSTART:20251029T110000Z
DTEND:20251029T134000Z
SUMMARY:Дизайн-проектирование
LOCATION:НИК В2.20 (2)
END:VEVENT
BEGIN:VEVENT
UID:eqcg@192.168.245.71:3006
SEQUENCE:0
DTSTAMP:20260426T042530Z
DTSTART:20251029T150000Z
DTEND:20251029T164000Z
SUMMARY:Карьерная адаптивность
LOCATION:ГК-2 412а
END:VEVENT
BEGIN:VEVENT
UID:pucz@192.168.245.71:3006
SEQUENCE:0
DTSTAMP:20260426T042530Z
DTSTART:20251030T110000Z
DTEND:20251030T134000Z
SUMMARY:Рисунок и спецграфика
LOCATION:ГЗ 314
END:VEVENT
BEGIN:VEVENT
UID:nsqt@192.168.245.71:3006
SEQUENCE:0
DTSTAMP:20260426T042530Z
DTSTART:20251031T090000Z
DTEND:20251031T114000Z
SUMMARY:Проектирование фирменного стиля
LOCATION:НИК В2.20 (2)
END:VEVENT
BEGIN:VEVENT
UID:ooyg@192.168.245.71:3006
SEQUENCE:0
DTSTAMP:20260426T042530Z
DTSTART:20251031T120000Z
DTEND:20251031T144000Z
SUMMARY:Компьютерная графика
LOCATION:НИК В2.20 (2)
END:VEVENT
BEGIN:VEVENT
UID:vgw2@192.168.245.71:3006
SEQUENCE:0
DTSTAMP:20260426T042530Z
DTSTART:20251031T150000Z
DTEND:20251031T164000Z
SUMMARY:Карьерная адаптивность
LOCATION:DL Дистанционно
END:VEVENT
END:VCALENDAR