BEGIN:VCALENDAR
VERSION:2.0
PRODID:-//spbstu.ru//ical//RU
NAME:Расписание группы 3135401/30201
X-WR-CALNAME:Расписание группы 3135401/30201
TIMEZONE-ID:Europe/Moscow
X-WR-TIMEZONE:Europe/Moscow
BEGIN:VEVENT
UID:2iqj@192.168.245.71:3006
SEQUENCE:0
DTSTAMP:20260424T194630Z
DTSTART:20251222T110000Z
DTEND:20251222T124000Z
SUMMARY:Патентоведение и авторское право
LOCATION:ГЗ 284
END:VEVENT
BEGIN:VEVENT
UID:f0h0@192.168.245.71:3006
SEQUENCE:0
DTSTAMP:20260424T194630Z
DTSTART:20251223T110000Z
DTEND:20251223T150000Z
SUMMARY:Патентоведение и авторское право
LOCATION:ГЗ 283
END:VEVENT
BEGIN:VEVENT
UID:9wxr@192.168.245.71:3006
SEQUENCE:0
DTSTAMP:20260424T194630Z
DTSTART:20251225T090000Z
DTEND:20251225T094000Z
SUMMARY:Дизайн-проектирование
LOCATION:НИК В2.20 (2)
END:VEVENT
BEGIN:VEVENT
UID:lvyk@192.168.245.71:3006
SEQUENCE:0
DTSTAMP:20260424T194630Z
DTSTART:20251225T100000Z
DTEND:20251225T140000Z
SUMMARY:Дизайн-проектирование
LOCATION:НИК В2.20 (2)
END:VEVENT
BEGIN:VEVENT
UID:t9wq@192.168.245.71:3006
SEQUENCE:0
DTSTAMP:20260424T194630Z
DTSTART:20251226T090000Z
DTEND:20251226T140000Z
SUMMARY:Дизайн-проектирование
LOCATION:НИК В2.20 (2)
END:VEVENT
END:VCALENDAR