BEGIN:VCALENDAR
VERSION:2.0
PRODID:-//spbstu.ru//ical//RU
NAME:Расписание группы 3150801/30102
X-WR-CALNAME:Расписание группы 3150801/30102
TIMEZONE-ID:Europe/Moscow
X-WR-TIMEZONE:Europe/Moscow
BEGIN:VEVENT
UID:lr00@192.168.245.71:3006
SEQUENCE:0
DTSTAMP:20260426T022739Z
DTSTART:20251124T070000Z
DTEND:20251124T084000Z
SUMMARY:Водоснабжение и водоотведение
LOCATION:ГЗ 257
END:VEVENT
BEGIN:VEVENT
UID:xyrl@192.168.245.71:3006
SEQUENCE:0
DTSTAMP:20260426T022739Z
DTSTART:20251124T090000Z
DTEND:20251124T104000Z
SUMMARY:Строительные машины и оборудование
LOCATION:ГК-2 406
END:VEVENT
BEGIN:VEVENT
UID:ekqr@192.168.245.71:3006
SEQUENCE:0
DTSTAMP:20260426T022739Z
DTSTART:20251124T110000Z
DTEND:20251124T124000Z
SUMMARY:Проектирование гражданских зданий
LOCATION:ГК-2 412
END:VEVENT
BEGIN:VEVENT
UID:uqrw@192.168.245.71:3006
SEQUENCE:0
DTSTAMP:20260426T022739Z
DTSTART:20251124T130000Z
DTEND:20251124T144000Z
SUMMARY:Строительная механика
LOCATION:ГК-2 514
END:VEVENT
BEGIN:VEVENT
UID:1phd@192.168.245.71:3006
SEQUENCE:0
DTSTAMP:20260426T022739Z
DTSTART:20251125T070000Z
DTEND:20251125T084000Z
SUMMARY:Железобетонные конструкции
LOCATION:ГК-2 401
END:VEVENT
BEGIN:VEVENT
UID:3nik@192.168.245.71:3006
SEQUENCE:0
DTSTAMP:20260426T022739Z
DTSTART:20251125T090000Z
DTEND:20251125T104000Z
SUMMARY:Строительные машины и оборудование
LOCATION:СПГК 112
END:VEVENT
BEGIN:VEVENT
UID:6wnj@192.168.245.71:3006
SEQUENCE:0
DTSTAMP:20260426T022739Z
DTSTART:20251125T110000Z
DTEND:20251125T124000Z
SUMMARY:Железобетонные конструкции
LOCATION:ГК-2 203а
END:VEVENT
BEGIN:VEVENT
UID:oi1i@192.168.245.71:3006
SEQUENCE:0
DTSTAMP:20260426T022739Z
DTSTART:20251126T050000Z
DTEND:20251126T064000Z
SUMMARY:Пожарная безопасность в строительстве
LOCATION:ГК-2 406
END:VEVENT
BEGIN:VEVENT
UID:fm6f@192.168.245.71:3006
SEQUENCE:0
DTSTAMP:20260426T022739Z
DTSTART:20251126T070000Z
DTEND:20251126T084000Z
SUMMARY:Проектирование гражданских зданий
LOCATION:ГК-2 406
END:VEVENT
BEGIN:VEVENT
UID:le50@192.168.245.71:3006
SEQUENCE:0
DTSTAMP:20260426T022739Z
DTSTART:20251126T090000Z
DTEND:20251126T104000Z
SUMMARY:Строительная механика
LOCATION:ГК-2 513
END:VEVENT
BEGIN:VEVENT
UID:mxmu@192.168.245.71:3006
SEQUENCE:0
DTSTAMP:20260426T022739Z
DTSTART:20251126T110000Z
DTEND:20251126T124000Z
SUMMARY:Механика грунтов
LOCATION:ГК-2 512
END:VEVENT
BEGIN:VEVENT
UID:27qo@192.168.245.71:3006
SEQUENCE:0
DTSTAMP:20260426T022739Z
DTSTART:20251127T070000Z
DTEND:20251127T084000Z
SUMMARY:Военная подготовка
LOCATION:Военная каф. кафедра
END:VEVENT
BEGIN:VEVENT
UID:e8g9@192.168.245.71:3006
SEQUENCE:0
DTSTAMP:20260426T022739Z
DTSTART:20251127T090000Z
DTEND:20251127T104000Z
SUMMARY:Военная подготовка
LOCATION:Военная каф. кафедра
END:VEVENT
BEGIN:VEVENT
UID:6gty@192.168.245.71:3006
SEQUENCE:0
DTSTAMP:20260426T022739Z
DTSTART:20251127T110000Z
DTEND:20251127T124000Z
SUMMARY:Военная подготовка
LOCATION:Военная каф. кафедра
END:VEVENT
BEGIN:VEVENT
UID:pbpd@192.168.245.71:3006
SEQUENCE:0
DTSTAMP:20260426T022739Z
DTSTART:20251128T070000Z
DTEND:20251128T084000Z
SUMMARY:Архитектура зданий
LOCATION:ГК-2 509
END:VEVENT
BEGIN:VEVENT
UID:dxzu@192.168.245.71:3006
SEQUENCE:0
DTSTAMP:20260426T022739Z
DTSTART:20251128T090000Z
DTEND:20251128T104000Z
SUMMARY:Иностранный язык. Профессионально-ориентированный курс
LOCATION:ГК 229
END:VEVENT
BEGIN:VEVENT
UID:uzm8@192.168.245.71:3006
SEQUENCE:0
DTSTAMP:20260426T022739Z
DTSTART:20251128T110000Z
DTEND:20251128T124000Z
SUMMARY:Архитектура зданий
LOCATION:ГК-2 412
END:VEVENT
BEGIN:VEVENT
UID:od56@192.168.245.71:3006
SEQUENCE:0
DTSTAMP:20260426T022739Z
DTSTART:20251129T070000Z
DTEND:20251129T084000Z
SUMMARY:Военная подготовка
LOCATION:Военная каф. кафедра
END:VEVENT
BEGIN:VEVENT
UID:gzp9@192.168.245.71:3006
SEQUENCE:0
DTSTAMP:20260426T022739Z
DTSTART:20251129T090000Z
DTEND:20251129T104000Z
SUMMARY:Военная подготовка
LOCATION:Военная каф. кафедра
END:VEVENT
END:VCALENDAR