BEGIN:VCALENDAR
VERSION:2.0
PRODID:-//spbstu.ru//ical//RU
NAME:Расписание группы 3150801/30102
X-WR-CALNAME:Расписание группы 3150801/30102
TIMEZONE-ID:Europe/Moscow
X-WR-TIMEZONE:Europe/Moscow
BEGIN:VEVENT
UID:0v8d@192.168.245.71:3006
SEQUENCE:0
DTSTAMP:20260422T140950Z
DTSTART:20260316T070000Z
DTEND:20260316T084000Z
SUMMARY:Пожарная безопасность в строительстве
LOCATION:ГК-2 406
END:VEVENT
BEGIN:VEVENT
UID:cjmt@192.168.245.71:3006
SEQUENCE:0
DTSTAMP:20260422T140950Z
DTSTART:20260316T090000Z
DTEND:20260316T104000Z
SUMMARY:Теплогазоснабжение с основами теплотехники
LOCATION:ГК-2 509
END:VEVENT
BEGIN:VEVENT
UID:sahj@192.168.245.71:3006
SEQUENCE:0
DTSTAMP:20260422T140950Z
DTSTART:20260316T110000Z
DTEND:20260316T124000Z
SUMMARY:Проектирование гражданских зданий
LOCATION:ГК-2 512
END:VEVENT
BEGIN:VEVENT
UID:2zu4@192.168.245.71:3006
SEQUENCE:0
DTSTAMP:20260422T140950Z
DTSTART:20260317T070000Z
DTEND:20260317T084000Z
SUMMARY:Архитектура зданий
LOCATION:ГК-2 404
END:VEVENT
BEGIN:VEVENT
UID:n8oo@192.168.245.71:3006
SEQUENCE:0
DTSTAMP:20260422T140950Z
DTSTART:20260317T090000Z
DTEND:20260317T104000Z
SUMMARY:Архитектура зданий
LOCATION:ГК-2 405
END:VEVENT
BEGIN:VEVENT
UID:s4x5@192.168.245.71:3006
SEQUENCE:0
DTSTAMP:20260422T140950Z
DTSTART:20260317T110000Z
DTEND:20260317T124000Z
SUMMARY:Проектирование гражданских зданий
LOCATION:ГК 216
END:VEVENT
BEGIN:VEVENT
UID:te95@192.168.245.71:3006
SEQUENCE:0
DTSTAMP:20260422T140950Z
DTSTART:20260317T130000Z
DTEND:20260317T144000Z
SUMMARY:Строительная механика (спецкурс)
LOCATION:ГК-2 513
END:VEVENT
BEGIN:VEVENT
UID:x2of@192.168.245.71:3006
SEQUENCE:0
DTSTAMP:20260422T140950Z
DTSTART:20260319T070000Z
DTEND:20260319T084000Z
SUMMARY:Военная подготовка
LOCATION:Военная каф. кафедра
END:VEVENT
BEGIN:VEVENT
UID:7mix@192.168.245.71:3006
SEQUENCE:0
DTSTAMP:20260422T140950Z
DTSTART:20260319T090000Z
DTEND:20260319T104000Z
SUMMARY:Военная подготовка
LOCATION:Военная каф. кафедра
END:VEVENT
BEGIN:VEVENT
UID:w006@192.168.245.71:3006
SEQUENCE:0
DTSTAMP:20260422T140950Z
DTSTART:20260319T110000Z
DTEND:20260319T124000Z
SUMMARY:Военная подготовка
LOCATION:Военная каф. кафедра
END:VEVENT
BEGIN:VEVENT
UID:nw8q@192.168.245.71:3006
SEQUENCE:0
DTSTAMP:20260422T140950Z
DTSTART:20260320T070000Z
DTEND:20260320T084000Z
SUMMARY:Металлические конструкции
LOCATION:ГК-2 512
END:VEVENT
BEGIN:VEVENT
UID:32pb@192.168.245.71:3006
SEQUENCE:0
DTSTAMP:20260422T140950Z
DTSTART:20260320T090000Z
DTEND:20260320T104000Z
SUMMARY:Строительная механика (спецкурс)
LOCATION:ГК-2 514
END:VEVENT
BEGIN:VEVENT
UID:1h5e@192.168.245.71:3006
SEQUENCE:0
DTSTAMP:20260422T140950Z
DTSTART:20260320T110000Z
DTEND:20260320T124000Z
SUMMARY:Металлические конструкции
LOCATION:ГЗ 215
END:VEVENT
BEGIN:VEVENT
UID:81ot@192.168.245.71:3006
SEQUENCE:0
DTSTAMP:20260422T140950Z
DTSTART:20260321T070000Z
DTEND:20260321T084000Z
SUMMARY:Военная подготовка
LOCATION:Военная каф. кафедра
END:VEVENT
BEGIN:VEVENT
UID:81b1@192.168.245.71:3006
SEQUENCE:0
DTSTAMP:20260422T140950Z
DTSTART:20260321T090000Z
DTEND:20260321T104000Z
SUMMARY:Военная подготовка
LOCATION:Военная каф. кафедра
END:VEVENT
END:VCALENDAR