BEGIN:VCALENDAR
VERSION:2.0
PRODID:-//spbstu.ru//ical//RU
NAME:Расписание группы 3150801/30102
X-WR-CALNAME:Расписание группы 3150801/30102
TIMEZONE-ID:Europe/Moscow
X-WR-TIMEZONE:Europe/Moscow
BEGIN:VEVENT
UID:nu7d@192.168.245.71:3006
SEQUENCE:0
DTSTAMP:20260421T232319Z
DTSTART:20260420T050000Z
DTEND:20260420T064000Z
SUMMARY:Пожарная безопасность в строительстве
LOCATION:ГК-2 406
END:VEVENT
BEGIN:VEVENT
UID:7t4k@192.168.245.71:3006
SEQUENCE:0
DTSTAMP:20260421T232319Z
DTSTART:20260420T070000Z
DTEND:20260420T084000Z
SUMMARY:Пожарная безопасность в строительстве
LOCATION:ГК-2 406
END:VEVENT
BEGIN:VEVENT
UID:nyr7@192.168.245.71:3006
SEQUENCE:0
DTSTAMP:20260421T232319Z
DTSTART:20260420T090000Z
DTEND:20260420T104000Z
SUMMARY:Технологические процессы в строительстве
LOCATION:ГК-2 405
END:VEVENT
BEGIN:VEVENT
UID:b424@192.168.245.71:3006
SEQUENCE:0
DTSTAMP:20260421T232319Z
DTSTART:20260421T070000Z
DTEND:20260421T084000Z
SUMMARY:Теплогазоснабжение с основами теплотехники
LOCATION:ГК-2 405
END:VEVENT
BEGIN:VEVENT
UID:simu@192.168.245.71:3006
SEQUENCE:0
DTSTAMP:20260421T232319Z
DTSTART:20260421T090000Z
DTEND:20260421T104000Z
SUMMARY:Технологические процессы в строительстве
LOCATION:ГК-2 405
END:VEVENT
BEGIN:VEVENT
UID:y413@192.168.245.71:3006
SEQUENCE:0
DTSTAMP:20260421T232319Z
DTSTART:20260423T070000Z
DTEND:20260423T084000Z
SUMMARY:Военная подготовка
LOCATION:Военная каф. кафедра
END:VEVENT
BEGIN:VEVENT
UID:mhb2@192.168.245.71:3006
SEQUENCE:0
DTSTAMP:20260421T232319Z
DTSTART:20260423T090000Z
DTEND:20260423T104000Z
SUMMARY:Военная подготовка
LOCATION:Военная каф. кафедра
END:VEVENT
BEGIN:VEVENT
UID:unli@192.168.245.71:3006
SEQUENCE:0
DTSTAMP:20260421T232319Z
DTSTART:20260423T110000Z
DTEND:20260423T124000Z
SUMMARY:Военная подготовка
LOCATION:Военная каф. кафедра
END:VEVENT
BEGIN:VEVENT
UID:7uk6@192.168.245.71:3006
SEQUENCE:0
DTSTAMP:20260421T232319Z
DTSTART:20260424T090000Z
DTEND:20260424T104000Z
SUMMARY:Строительная механика (спецкурс)
LOCATION:ГК-2 514
END:VEVENT
BEGIN:VEVENT
UID:2m4z@192.168.245.71:3006
SEQUENCE:0
DTSTAMP:20260421T232319Z
DTSTART:20260424T110000Z
DTEND:20260424T124000Z
SUMMARY:Металлические конструкции
LOCATION:ГЗ 215
END:VEVENT
END:VCALENDAR