BEGIN:VCALENDAR
VERSION:2.0
PRODID:-//spbstu.ru//ical//RU
NAME:Расписание группы 3150801/30201
X-WR-CALNAME:Расписание группы 3150801/30201
TIMEZONE-ID:Europe/Moscow
X-WR-TIMEZONE:Europe/Moscow
BEGIN:VEVENT
UID:czke@192.168.245.71:3006
SEQUENCE:0
DTSTAMP:20260422T063823Z
DTSTART:20260406T070000Z
DTEND:20260406T084000Z
SUMMARY:Обеспечение судоходства и компоновка порта
LOCATION:ГК-2 507
END:VEVENT
BEGIN:VEVENT
UID:bwld@192.168.245.71:3006
SEQUENCE:0
DTSTAMP:20260422T063823Z
DTSTART:20260406T090000Z
DTEND:20260406T104000Z
SUMMARY:Технологические процессы в строительстве
LOCATION:ГК-2 507
END:VEVENT
BEGIN:VEVENT
UID:1sqo@192.168.245.71:3006
SEQUENCE:0
DTSTAMP:20260422T063823Z
DTSTART:20260406T110000Z
DTEND:20260406T124000Z
SUMMARY:Технологические процессы в строительстве
LOCATION:ГК-2 507
END:VEVENT
BEGIN:VEVENT
UID:okra@192.168.245.71:3006
SEQUENCE:0
DTSTAMP:20260422T063823Z
DTSTART:20260407T070000Z
DTEND:20260407T084000Z
SUMMARY:Металлические конструкции
LOCATION:ГК-2 507
END:VEVENT
BEGIN:VEVENT
UID:lcmz@192.168.245.71:3006
SEQUENCE:0
DTSTAMP:20260422T063823Z
DTSTART:20260407T090000Z
DTEND:20260407T104000Z
SUMMARY:Водоподпорные ГТС
LOCATION:ГК-2 508
END:VEVENT
BEGIN:VEVENT
UID:ikj7@192.168.245.71:3006
SEQUENCE:0
DTSTAMP:20260422T063823Z
DTSTART:20260407T110000Z
DTEND:20260407T124000Z
SUMMARY:Водоподпорные ГТС
LOCATION:ГК-2 508
END:VEVENT
BEGIN:VEVENT
UID:31jb@192.168.245.71:3006
SEQUENCE:0
DTSTAMP:20260422T063823Z
DTSTART:20260409T070000Z
DTEND:20260409T084000Z
SUMMARY:Военная подготовка
LOCATION:Военная каф. кафедра
END:VEVENT
BEGIN:VEVENT
UID:jrpl@192.168.245.71:3006
SEQUENCE:0
DTSTAMP:20260422T063823Z
DTSTART:20260409T090000Z
DTEND:20260409T104000Z
SUMMARY:Военная подготовка
LOCATION:Военная каф. кафедра
END:VEVENT
BEGIN:VEVENT
UID:m5ab@192.168.245.71:3006
SEQUENCE:0
DTSTAMP:20260422T063823Z
DTSTART:20260409T110000Z
DTEND:20260409T124000Z
SUMMARY:Военная подготовка
LOCATION:Военная каф. кафедра
END:VEVENT
BEGIN:VEVENT
UID:hspm@192.168.245.71:3006
SEQUENCE:0
DTSTAMP:20260422T063823Z
DTSTART:20260410T110000Z
DTEND:20260410T124000Z
SUMMARY:Строительная механика (спецкурс)
LOCATION:ГК-2 514
END:VEVENT
BEGIN:VEVENT
UID:sa1p@192.168.245.71:3006
SEQUENCE:0
DTSTAMP:20260422T063823Z
DTSTART:20260410T130000Z
DTEND:20260410T144000Z
SUMMARY:Цифровые технологии в проектировании и строительстве
LOCATION:ГК-2 310
END:VEVENT
END:VCALENDAR