BEGIN:VCALENDAR
VERSION:2.0
PRODID:-//spbstu.ru//ical//RU
NAME:Расписание группы 3150801/30201
X-WR-CALNAME:Расписание группы 3150801/30201
TIMEZONE-ID:Europe/Moscow
X-WR-TIMEZONE:Europe/Moscow
BEGIN:VEVENT
UID:3bvn@192.168.245.71:3006
SEQUENCE:0
DTSTAMP:20260423T044521Z
DTSTART:20260615T090000Z
DTEND:20260615T104000Z
SUMMARY:Металлические конструкции
LOCATION:ГК-2 405
END:VEVENT
BEGIN:VEVENT
UID:e6tb@192.168.245.71:3006
SEQUENCE:0
DTSTAMP:20260423T044521Z
DTSTART:20260616T070000Z
DTEND:20260616T143000Z
SUMMARY:Металлические конструкции
LOCATION:ГК-2 508
END:VEVENT
END:VCALENDAR