BEGIN:VCALENDAR
VERSION:2.0
PRODID:-//spbstu.ru//ical//RU
NAME:Расписание группы 3130703/20101
X-WR-CALNAME:Расписание группы 3130703/20101
TIMEZONE-ID:Europe/Moscow
X-WR-TIMEZONE:Europe/Moscow
BEGIN:VEVENT
UID:hdgf@192.168.245.71:3006
SEQUENCE:0
DTSTAMP:20260423T145239Z
DTSTART:20251103T070000Z
DTEND:20251103T084000Z
SUMMARY:Строительные конструкции в комплексном проектировании архитектурны
 х объектов
LOCATION:ГЗ 282
END:VEVENT
BEGIN:VEVENT
UID:v5ni@192.168.245.71:3006
SEQUENCE:0
DTSTAMP:20260423T145239Z
DTSTART:20251103T090000Z
DTEND:20251103T104000Z
SUMMARY:Эргономика в архитектурно-дизайнерском проектировании
LOCATION:ГЗ 304
END:VEVENT
BEGIN:VEVENT
UID:qt2c@192.168.245.71:3006
SEQUENCE:0
DTSTAMP:20260423T145239Z
DTSTART:20251103T110000Z
DTEND:20251103T124000Z
SUMMARY:История градостроительства
LOCATION:ГК-2 512
END:VEVENT
BEGIN:VEVENT
UID:4gvz@192.168.245.71:3006
SEQUENCE:0
DTSTAMP:20260423T145239Z
DTSTART:20251105T110000Z
DTEND:20251105T124000Z
SUMMARY:Строительные конструкции в комплексном проектировании архитектурны
 х объектов
LOCATION:ГК-2 407
END:VEVENT
BEGIN:VEVENT
UID:ftto@192.168.245.71:3006
SEQUENCE:0
DTSTAMP:20260423T145239Z
DTSTART:20251105T130000Z
DTEND:20251105T154000Z
SUMMARY:Комплексное архитектурно-дизайнерское проектирование
LOCATION:НИК В2.22 (1)
END:VEVENT
BEGIN:VEVENT
UID:2cda@192.168.245.71:3006
SEQUENCE:0
DTSTAMP:20260423T145239Z
DTSTART:20251106T110000Z
DTEND:20251106T124000Z
SUMMARY:Строительная механика
LOCATION:ГК-2 302
END:VEVENT
BEGIN:VEVENT
UID:l2cn@192.168.245.71:3006
SEQUENCE:0
DTSTAMP:20260423T145239Z
DTSTART:20251107T080000Z
DTEND:20251107T104000Z
SUMMARY:Комплексное архитектурно-дизайнерское проектирование
LOCATION:НИК В2.22 (1)
END:VEVENT
BEGIN:VEVENT
UID:csem@192.168.245.71:3006
SEQUENCE:0
DTSTAMP:20260423T145239Z
DTSTART:20251107T110000Z
DTEND:20251107T134000Z
SUMMARY:Колористика
LOCATION:ГЗ 304
END:VEVENT
BEGIN:VEVENT
UID:glsm@192.168.245.71:3006
SEQUENCE:0
DTSTAMP:20260423T145239Z
DTSTART:20251108T090000Z
DTEND:20251108T104000Z
SUMMARY:Организация строительства
LOCATION:ГК-2 504
END:VEVENT
BEGIN:VEVENT
UID:ny7p@192.168.245.71:3006
SEQUENCE:0
DTSTAMP:20260423T145239Z
DTSTART:20251108T110000Z
DTEND:20251108T124000Z
SUMMARY:Организация строительства
LOCATION:ГК-2 310
END:VEVENT
END:VCALENDAR