BEGIN:VCALENDAR
VERSION:2.0
PRODID:-//spbstu.ru//ical//RU
NAME:Расписание группы 3130703/20101
X-WR-CALNAME:Расписание группы 3130703/20101
TIMEZONE-ID:Europe/Moscow
X-WR-TIMEZONE:Europe/Moscow
BEGIN:VEVENT
UID:18z4@192.168.245.71:3006
SEQUENCE:0
DTSTAMP:20260422T011315Z
DTSTART:20260202T080000Z
DTEND:20260202T085000Z
SUMMARY:Комплексное архитектурно-дизайнерское проектирование
LOCATION:НИК В2.22 (1)
END:VEVENT
BEGIN:VEVENT
UID:3u9a@192.168.245.71:3006
SEQUENCE:0
DTSTAMP:20260422T011315Z
DTSTART:20260202T090000Z
DTEND:20260202T104000Z
SUMMARY:Комплексное архитектурно-дизайнерское проектирование
LOCATION:НИК В2.22 (1)
END:VEVENT
BEGIN:VEVENT
UID:9mc5@192.168.245.71:3006
SEQUENCE:0
DTSTAMP:20260422T011315Z
DTSTART:20260202T110000Z
DTEND:20260202T124000Z
SUMMARY:Архитектурная типология
LOCATION:ГЗ 280
END:VEVENT
BEGIN:VEVENT
UID:2l5o@192.168.245.71:3006
SEQUENCE:0
DTSTAMP:20260422T011315Z
DTSTART:20260203T070000Z
DTEND:20260203T084000Z
SUMMARY:Порядок разработки и требований к проектной документации
LOCATION:ГЗ 284
END:VEVENT
BEGIN:VEVENT
UID:c1z8@192.168.245.71:3006
SEQUENCE:0
DTSTAMP:20260422T011315Z
DTSTART:20260203T090000Z
DTEND:20260203T104000Z
SUMMARY:Порядок разработки и требований к проектной документации
LOCATION:ГЗ 303 (1)
END:VEVENT
BEGIN:VEVENT
UID:t53q@192.168.245.71:3006
SEQUENCE:0
DTSTAMP:20260422T011315Z
DTSTART:20260203T110000Z
DTEND:20260203T124000Z
SUMMARY:Инженерное оборудование в объектах ландшафтной архитектуры
LOCATION:ГК-2 412
END:VEVENT
BEGIN:VEVENT
UID:p5kn@192.168.245.71:3006
SEQUENCE:0
DTSTAMP:20260422T011315Z
DTSTART:20260203T130000Z
DTEND:20260203T144000Z
SUMMARY:Строительные конструкции в комплексном проектировании архитектурны
 х объектов
LOCATION:ГК-2 412
END:VEVENT
BEGIN:VEVENT
UID:4lbi@192.168.245.71:3006
SEQUENCE:0
DTSTAMP:20260422T011315Z
DTSTART:20260205T070000Z
DTEND:20260205T094000Z
SUMMARY:Светодизайн
LOCATION:ГЗ 304
END:VEVENT
BEGIN:VEVENT
UID:vswf@192.168.245.71:3006
SEQUENCE:0
DTSTAMP:20260422T011315Z
DTSTART:20260206T070000Z
DTEND:20260206T084000Z
SUMMARY:Скульптура
LOCATION:15 к. 600а
END:VEVENT
BEGIN:VEVENT
UID:jj39@192.168.245.71:3006
SEQUENCE:0
DTSTAMP:20260422T011315Z
DTSTART:20260206T090000Z
DTEND:20260206T104000Z
SUMMARY:Скульптура
LOCATION:15 к. 600а
END:VEVENT
BEGIN:VEVENT
UID:9qvr@192.168.245.71:3006
SEQUENCE:0
DTSTAMP:20260422T011315Z
DTSTART:20260206T110000Z
DTEND:20260206T124000Z
SUMMARY:Комплексное архитектурно-дизайнерское проектирование
LOCATION:НИК В2.22 (1)
END:VEVENT
BEGIN:VEVENT
UID:bmgd@192.168.245.71:3006
SEQUENCE:0
DTSTAMP:20260422T011315Z
DTSTART:20260206T130000Z
DTEND:20260206T135000Z
SUMMARY:Комплексное архитектурно-дизайнерское проектирование
LOCATION:НИК В2.22 (1)
END:VEVENT
END:VCALENDAR