BEGIN:VCALENDAR
VERSION:2.0
PRODID:-//spbstu.ru//ical//RU
NAME:Расписание группы 3130703/20101
X-WR-CALNAME:Расписание группы 3130703/20101
TIMEZONE-ID:Europe/Moscow
X-WR-TIMEZONE:Europe/Moscow
BEGIN:VEVENT
UID:6ugo@192.168.245.71:3006
SEQUENCE:0
DTSTAMP:20260420T233054Z
DTSTART:20260427T080000Z
DTEND:20260427T085000Z
SUMMARY:Комплексное архитектурно-дизайнерское проектирование
LOCATION:НИК В2.22 (1)
END:VEVENT
BEGIN:VEVENT
UID:84jl@192.168.245.71:3006
SEQUENCE:0
DTSTAMP:20260420T233054Z
DTSTART:20260427T090000Z
DTEND:20260427T104000Z
SUMMARY:Комплексное архитектурно-дизайнерское проектирование
LOCATION:НИК В2.22 (1)
END:VEVENT
BEGIN:VEVENT
UID:ozs7@192.168.245.71:3006
SEQUENCE:0
DTSTAMP:20260420T233054Z
DTSTART:20260427T110000Z
DTEND:20260427T124000Z
SUMMARY:Архитектурная типология
LOCATION:ГЗ 280
END:VEVENT
BEGIN:VEVENT
UID:jqhw@192.168.245.71:3006
SEQUENCE:0
DTSTAMP:20260420T233054Z
DTSTART:20260428T070000Z
DTEND:20260428T084000Z
SUMMARY:Порядок разработки и требований к проектной документации
LOCATION:ГЗ 284
END:VEVENT
BEGIN:VEVENT
UID:ryxb@192.168.245.71:3006
SEQUENCE:0
DTSTAMP:20260420T233054Z
DTSTART:20260428T090000Z
DTEND:20260428T104000Z
SUMMARY:Порядок разработки и требований к проектной документации
LOCATION:ГЗ 303 (1)
END:VEVENT
BEGIN:VEVENT
UID:b0af@192.168.245.71:3006
SEQUENCE:0
DTSTAMP:20260420T233054Z
DTSTART:20260428T110000Z
DTEND:20260428T124000Z
SUMMARY:Инженерное оборудование в объектах ландшафтной архитектуры
LOCATION:ГК-2 412
END:VEVENT
BEGIN:VEVENT
UID:kfwa@192.168.245.71:3006
SEQUENCE:0
DTSTAMP:20260420T233054Z
DTSTART:20260428T130000Z
DTEND:20260428T144000Z
SUMMARY:Строительные конструкции в комплексном проектировании архитектурны
 х объектов
LOCATION:ГК-2 412
END:VEVENT
BEGIN:VEVENT
UID:ofa1@192.168.245.71:3006
SEQUENCE:0
DTSTAMP:20260420T233054Z
DTSTART:20260430T070000Z
DTEND:20260430T094000Z
SUMMARY:Светодизайн
LOCATION:ГЗ 304
END:VEVENT
END:VCALENDAR