BEGIN:VCALENDAR
VERSION:2.0
PRODID:-//spbstu.ru//ical//RU
NAME:Расписание группы 3130801/20203
X-WR-CALNAME:Расписание группы 3130801/20203
TIMEZONE-ID:Europe/Moscow
X-WR-TIMEZONE:Europe/Moscow
BEGIN:VEVENT
UID:6zqn@192.168.245.71:3006
SEQUENCE:0
DTSTAMP:20260424T175410Z
DTSTART:20260113T110000Z
DTEND:20260113T140000Z
SUMMARY:Водоснабжение и канализация территорий населенных мест
LOCATION:ГК-2 410
END:VEVENT
BEGIN:VEVENT
UID:7g9u@192.168.245.71:3006
SEQUENCE:0
DTSTAMP:20260424T175410Z
DTSTART:20260116T070000Z
DTEND:20260116T074000Z
SUMMARY:Конструкции из дерева и пластмасс
LOCATION:ГК-2 406
END:VEVENT
BEGIN:VEVENT
UID:ktsk@192.168.245.71:3006
SEQUENCE:0
DTSTAMP:20260424T175410Z
DTSTART:20260117T070000Z
DTEND:20260117T130000Z
SUMMARY:Конструкции из дерева и пластмасс
LOCATION:ГК-2 407
END:VEVENT
END:VCALENDAR