BEGIN:VCALENDAR
VERSION:2.0
PRODID:-//spbstu.ru//ical//RU
NAME:Расписание группы 3130801/20401
X-WR-CALNAME:Расписание группы 3130801/20401
TIMEZONE-ID:Europe/Moscow
X-WR-TIMEZONE:Europe/Moscow
BEGIN:VEVENT
UID:n3jt@192.168.245.71:3006
SEQUENCE:0
DTSTAMP:20260424T235045Z
DTSTART:20251020T070000Z
DTEND:20251020T084000Z
SUMMARY:Военная подготовка
LOCATION:Военная каф. кафедра
END:VEVENT
BEGIN:VEVENT
UID:dufj@192.168.245.71:3006
SEQUENCE:0
DTSTAMP:20260424T235045Z
DTSTART:20251020T090000Z
DTEND:20251020T104000Z
SUMMARY:Военная подготовка
LOCATION:Военная каф. кафедра
END:VEVENT
BEGIN:VEVENT
UID:nl8w@192.168.245.71:3006
SEQUENCE:0
DTSTAMP:20260424T235045Z
DTSTART:20251020T110000Z
DTEND:20251020T124000Z
SUMMARY:Военная подготовка
LOCATION:Военная каф. кафедра
END:VEVENT
BEGIN:VEVENT
UID:x2p4@192.168.245.71:3006
SEQUENCE:0
DTSTAMP:20260424T235045Z
DTSTART:20251021T070000Z
DTEND:20251021T084000Z
SUMMARY:Сооружения континентального шельфа
LOCATION:ГК-2 508
END:VEVENT
BEGIN:VEVENT
UID:g1lm@192.168.245.71:3006
SEQUENCE:0
DTSTAMP:20260424T235045Z
DTSTART:20251021T090000Z
DTEND:20251021T104000Z
SUMMARY:Инженерные мелиорации
LOCATION:ГК-2 508
END:VEVENT
BEGIN:VEVENT
UID:55o5@192.168.245.71:3006
SEQUENCE:0
DTSTAMP:20260424T235045Z
DTSTART:20251021T110000Z
DTEND:20251021T124000Z
SUMMARY:Оборудование гидроэнергетических сооружений
LOCATION:ГК-2 508
END:VEVENT
BEGIN:VEVENT
UID:q0hj@192.168.245.71:3006
SEQUENCE:0
DTSTAMP:20260424T235045Z
DTSTART:20251022T070000Z
DTEND:20251022T084000Z
SUMMARY:Инженерные мелиорации
LOCATION:ГК-2 508
END:VEVENT
BEGIN:VEVENT
UID:0swr@192.168.245.71:3006
SEQUENCE:0
DTSTAMP:20260424T235045Z
DTSTART:20251022T090000Z
DTEND:20251022T104000Z
SUMMARY:Речные ГТС
LOCATION:ГК-2 508
END:VEVENT
BEGIN:VEVENT
UID:k9tl@192.168.245.71:3006
SEQUENCE:0
DTSTAMP:20260424T235045Z
DTSTART:20251022T110000Z
DTEND:20251022T124000Z
SUMMARY:Речные ГТС
LOCATION:ГК-2 508
END:VEVENT
BEGIN:VEVENT
UID:00n7@192.168.245.71:3006
SEQUENCE:0
DTSTAMP:20260424T235045Z
DTSTART:20251022T130000Z
DTEND:20251022T144000Z
SUMMARY:Геотехническое проектирование
LOCATION:ГК 216
END:VEVENT
BEGIN:VEVENT
UID:2uvy@192.168.245.71:3006
SEQUENCE:0
DTSTAMP:20260424T235045Z
DTSTART:20251023T070000Z
DTEND:20251023T084000Z
SUMMARY:Сооружения континентального шельфа
LOCATION:ГК-2 508
END:VEVENT
BEGIN:VEVENT
UID:fwm3@192.168.245.71:3006
SEQUENCE:0
DTSTAMP:20260424T235045Z
DTSTART:20251023T090000Z
DTEND:20251023T104000Z
SUMMARY:Конструкции из дерева и пластмасс
LOCATION:ГК-2 507
END:VEVENT
BEGIN:VEVENT
UID:d7ci@192.168.245.71:3006
SEQUENCE:0
DTSTAMP:20260424T235045Z
DTSTART:20251023T110000Z
DTEND:20251023T124000Z
SUMMARY:Основы организации и управления в строительстве
LOCATION:ГК-2 410
END:VEVENT
BEGIN:VEVENT
UID:7mxn@192.168.245.71:3006
SEQUENCE:0
DTSTAMP:20260424T235045Z
DTSTART:20251024T070000Z
DTEND:20251024T084000Z
SUMMARY:Морские ГТС
LOCATION:ГК-2 508
END:VEVENT
BEGIN:VEVENT
UID:b7nw@192.168.245.71:3006
SEQUENCE:0
DTSTAMP:20260424T235045Z
DTSTART:20251024T090000Z
DTEND:20251024T104000Z
SUMMARY:Проектно-вычислительные комплексы в строительстве
LOCATION:ГК 216
END:VEVENT
END:VCALENDAR