BEGIN:VCALENDAR
VERSION:2.0
PRODID:-//spbstu.ru//ical//RU
NAME:Расписание группы 3130801/20603
X-WR-CALNAME:Расписание группы 3130801/20603
TIMEZONE-ID:Europe/Moscow
X-WR-TIMEZONE:Europe/Moscow
BEGIN:VEVENT
UID:0hyw@192.168.245.71:3006
SEQUENCE:0
DTSTAMP:20260422T145315Z
DTSTART:20260209T070000Z
DTEND:20260209T084000Z
SUMMARY:Военная подготовка
LOCATION:Военная каф. кафедра
END:VEVENT
BEGIN:VEVENT
UID:ddxo@192.168.245.71:3006
SEQUENCE:0
DTSTAMP:20260422T145315Z
DTSTART:20260209T090000Z
DTEND:20260209T104000Z
SUMMARY:Военная подготовка
LOCATION:Военная каф. кафедра
END:VEVENT
BEGIN:VEVENT
UID:xvqk@192.168.245.71:3006
SEQUENCE:0
DTSTAMP:20260422T145315Z
DTSTART:20260209T110000Z
DTEND:20260209T124000Z
SUMMARY:Военная подготовка
LOCATION:Военная каф. кафедра
END:VEVENT
BEGIN:VEVENT
UID:ohdu@192.168.245.71:3006
SEQUENCE:0
DTSTAMP:20260422T145315Z
DTSTART:20260210T070000Z
DTEND:20260210T084000Z
SUMMARY:Пожарная безопасность в строительстве
LOCATION:ГК-2 407
END:VEVENT
BEGIN:VEVENT
UID:5uum@192.168.245.71:3006
SEQUENCE:0
DTSTAMP:20260422T145315Z
DTSTART:20260211T070000Z
DTEND:20260211T084000Z
SUMMARY:Теплоснабжение и отопление зданий и сооружений
LOCATION:ГК 123б
END:VEVENT
BEGIN:VEVENT
UID:0cdb@192.168.245.71:3006
SEQUENCE:0
DTSTAMP:20260422T145315Z
DTSTART:20260211T090000Z
DTEND:20260211T104000Z
SUMMARY:Технология возведения уникальных зданий и сооружений
LOCATION:ГК-2 407
END:VEVENT
BEGIN:VEVENT
UID:b649@192.168.245.71:3006
SEQUENCE:0
DTSTAMP:20260422T145315Z
DTSTART:20260211T150000Z
DTEND:20260211T164000Z
SUMMARY:Конструкции из дерева и пластмасс
LOCATION:ГК-2 506
END:VEVENT
BEGIN:VEVENT
UID:luia@192.168.245.71:3006
SEQUENCE:0
DTSTAMP:20260422T145315Z
DTSTART:20260212T070000Z
DTEND:20260212T084000Z
SUMMARY:Технология возведения уникальных зданий и сооружений
LOCATION:ГК-2 506
END:VEVENT
BEGIN:VEVENT
UID:gvix@192.168.245.71:3006
SEQUENCE:0
DTSTAMP:20260422T145315Z
DTSTART:20260212T090000Z
DTEND:20260212T104000Z
SUMMARY:Комплексное проектирование уникальных зданий
LOCATION:ГК-2 406
END:VEVENT
BEGIN:VEVENT
UID:x05l@192.168.245.71:3006
SEQUENCE:0
DTSTAMP:20260422T145315Z
DTSTART:20260212T110000Z
DTEND:20260212T124000Z
SUMMARY:Экономика строительства
LOCATION:ГК-2 310
END:VEVENT
BEGIN:VEVENT
UID:fbbm@192.168.245.71:3006
SEQUENCE:0
DTSTAMP:20260422T145315Z
DTSTART:20260212T130000Z
DTEND:20260212T144000Z
SUMMARY:Экономика строительства
LOCATION:ГК-2 310
END:VEVENT
BEGIN:VEVENT
UID:l37q@192.168.245.71:3006
SEQUENCE:0
DTSTAMP:20260422T145315Z
DTSTART:20260212T150000Z
DTEND:20260212T164000Z
SUMMARY:Вентиляция и кондиционирование зданий и сооружений
LOCATION:ГК-2 506
END:VEVENT
BEGIN:VEVENT
UID:g0w3@192.168.245.71:3006
SEQUENCE:0
DTSTAMP:20260422T145315Z
DTSTART:20260213T050000Z
DTEND:20260213T064000Z
SUMMARY:Обследование зданий и сооружений
LOCATION:ГК-2 506
END:VEVENT
BEGIN:VEVENT
UID:0gje@192.168.245.71:3006
SEQUENCE:0
DTSTAMP:20260422T145315Z
DTSTART:20260213T070000Z
DTEND:20260213T084000Z
SUMMARY:Обследование зданий и сооружений
LOCATION:ГК-2 406
END:VEVENT
BEGIN:VEVENT
UID:7y8k@192.168.245.71:3006
SEQUENCE:0
DTSTAMP:20260422T145315Z
DTSTART:20260213T130000Z
DTEND:20260213T144000Z
SUMMARY:Технология строительного производства
LOCATION:ГК-2 513
END:VEVENT
END:VCALENDAR