BEGIN:VCALENDAR
VERSION:2.0
PRODID:-//spbstu.ru//ical//RU
NAME:Расписание группы 3135401/20201
X-WR-CALNAME:Расписание группы 3135401/20201
TIMEZONE-ID:Europe/Moscow
X-WR-TIMEZONE:Europe/Moscow
BEGIN:VEVENT
UID:0wrz@192.168.245.71:3006
SEQUENCE:0
DTSTAMP:20260423T073553Z
DTSTART:20251202T120000Z
DTEND:20251202T144000Z
SUMMARY:Мультимедийные технологии в дизайне
LOCATION:ГЗ 301 А
END:VEVENT
BEGIN:VEVENT
UID:523e@192.168.245.71:3006
SEQUENCE:0
DTSTAMP:20260423T073553Z
DTSTART:20251202T150000Z
DTEND:20251202T164000Z
SUMMARY:История графического дизайна и рекламы
LOCATION:НИК В2.20 (2)
END:VEVENT
BEGIN:VEVENT
UID:f0jl@192.168.245.71:3006
SEQUENCE:0
DTSTAMP:20260423T073553Z
DTSTART:20251204T090000Z
DTEND:20251204T114000Z
SUMMARY:Web-дизайн
LOCATION:ГЗ 303 (5)
END:VEVENT
BEGIN:VEVENT
UID:ertu@192.168.245.71:3006
SEQUENCE:0
DTSTAMP:20260423T073553Z
DTSTART:20251204T120000Z
DTEND:20251204T144000Z
SUMMARY:Дизайн-проектирование
LOCATION:НИК В2.20 (2)
END:VEVENT
BEGIN:VEVENT
UID:ixw8@192.168.245.71:3006
SEQUENCE:0
DTSTAMP:20260423T073553Z
DTSTART:20251205T110000Z
DTEND:20251205T134000Z
SUMMARY:Иллюстративная графика
LOCATION:ГК-2 314
END:VEVENT
BEGIN:VEVENT
UID:inz2@192.168.245.71:3006
SEQUENCE:0
DTSTAMP:20260423T073553Z
DTSTART:20251205T144500Z
DTEND:20251205T160000Z
SUMMARY:Проектирование упаковки
LOCATION:НИК В2.20 (2)
END:VEVENT
END:VCALENDAR