BEGIN:VCALENDAR
VERSION:2.0
PRODID:-//spbstu.ru//ical//RU
NAME:Расписание группы 3135401/20201
X-WR-CALNAME:Расписание группы 3135401/20201
TIMEZONE-ID:Europe/Moscow
X-WR-TIMEZONE:Europe/Moscow
BEGIN:VEVENT
UID:984x@192.168.245.71:3006
SEQUENCE:0
DTSTAMP:20260423T031932Z
DTSTART:20251216T130000Z
DTEND:20251216T144000Z
SUMMARY:Мультимедийные технологии в дизайне
LOCATION:ГЗ 301 А
END:VEVENT
BEGIN:VEVENT
UID:1rtt@192.168.245.71:3006
SEQUENCE:0
DTSTAMP:20260423T031932Z
DTSTART:20251216T150000Z
DTEND:20251216T164000Z
SUMMARY:История графического дизайна и рекламы
LOCATION:НИК В2.20 (2)
END:VEVENT
BEGIN:VEVENT
UID:u3if@192.168.245.71:3006
SEQUENCE:0
DTSTAMP:20260423T031932Z
DTSTART:20251217T090000Z
DTEND:20251217T104000Z
SUMMARY:Проектная практика
LOCATION:НИК В2.20 (2)
END:VEVENT
BEGIN:VEVENT
UID:rtag@192.168.245.71:3006
SEQUENCE:0
DTSTAMP:20260423T031932Z
DTSTART:20251217T110000Z
DTEND:20251217T160000Z
SUMMARY:Проектная практика
LOCATION:НИК В2.20 (2)
END:VEVENT
END:VCALENDAR