BEGIN:VCALENDAR
VERSION:2.0
PRODID:-//spbstu.ru//ical//RU
NAME:Расписание группы 3135401/20201
X-WR-CALNAME:Расписание группы 3135401/20201
TIMEZONE-ID:Europe/Moscow
X-WR-TIMEZONE:Europe/Moscow
BEGIN:VEVENT
UID:doge@192.168.245.71:3006
SEQUENCE:0
DTSTAMP:20260424T164825Z
DTSTART:20250930T120000Z
DTEND:20250930T144000Z
SUMMARY:Мультимедийные технологии в дизайне
LOCATION:ГЗ 301 А
END:VEVENT
BEGIN:VEVENT
UID:gcgq@192.168.245.71:3006
SEQUENCE:0
DTSTAMP:20260424T164825Z
DTSTART:20250930T150000Z
DTEND:20250930T164000Z
SUMMARY:История графического дизайна и рекламы
LOCATION:НИК В2.20 (2)
END:VEVENT
BEGIN:VEVENT
UID:2f9h@192.168.245.71:3006
SEQUENCE:0
DTSTAMP:20260424T164825Z
DTSTART:20251002T090000Z
DTEND:20251002T114000Z
SUMMARY:Web-дизайн
LOCATION:ГЗ 303 (5)
END:VEVENT
BEGIN:VEVENT
UID:aphh@192.168.245.71:3006
SEQUENCE:0
DTSTAMP:20260424T164825Z
DTSTART:20251002T120000Z
DTEND:20251002T144000Z
SUMMARY:Дизайн-проектирование
LOCATION:НИК В2.20 (2)
END:VEVENT
BEGIN:VEVENT
UID:4r94@192.168.245.71:3006
SEQUENCE:0
DTSTAMP:20260424T164825Z
DTSTART:20251003T110000Z
DTEND:20251003T134000Z
SUMMARY:Иллюстративная графика
LOCATION:ГЗ 314
END:VEVENT
BEGIN:VEVENT
UID:f2lr@192.168.245.71:3006
SEQUENCE:0
DTSTAMP:20260424T164825Z
DTSTART:20251003T144500Z
DTEND:20251003T154000Z
SUMMARY:Проектирование упаковки
LOCATION:НИК В2.20 (2)
END:VEVENT
BEGIN:VEVENT
UID:elsy@192.168.245.71:3006
SEQUENCE:0
DTSTAMP:20260424T164825Z
DTSTART:20251003T154000Z
DTEND:20251003T173000Z
SUMMARY:Проектирование упаковки
LOCATION:НИК В2.20 (2)
END:VEVENT
END:VCALENDAR