BEGIN:VCALENDAR
VERSION:2.0
PRODID:-//spbstu.ru//ical//RU
NAME:Расписание группы 3135401/20201
X-WR-CALNAME:Расписание группы 3135401/20201
TIMEZONE-ID:Europe/Moscow
X-WR-TIMEZONE:Europe/Moscow
BEGIN:VEVENT
UID:z3zz@192.168.245.71:3006
SEQUENCE:0
DTSTAMP:20260422T081829Z
DTSTART:20260120T070000Z
DTEND:20260120T084000Z
SUMMARY:История графического дизайна и рекламы
LOCATION:НИК В2.20 (2)
END:VEVENT
BEGIN:VEVENT
UID:sbwg@192.168.245.71:3006
SEQUENCE:0
DTSTAMP:20260422T081829Z
DTSTART:20260120T090000Z
DTEND:20260120T140000Z
SUMMARY:История графического дизайна и рекламы
LOCATION:НИК В2.20 (2)
END:VEVENT
END:VCALENDAR