BEGIN:VCALENDAR
VERSION:2.0
PRODID:-//spbstu.ru//ical//RU
NAME:Расписание группы 3135401/20201
X-WR-CALNAME:Расписание группы 3135401/20201
TIMEZONE-ID:Europe/Moscow
X-WR-TIMEZONE:Europe/Moscow
BEGIN:VEVENT
UID:qwwz@192.168.245.71:3006
SEQUENCE:0
DTSTAMP:20260422T014254Z
DTSTART:20260224T150000Z
DTEND:20260224T164000Z
SUMMARY:Мультимедийные технологии в дизайне
LOCATION:ГЗ 301 А
END:VEVENT
BEGIN:VEVENT
UID:j4fa@192.168.245.71:3006
SEQUENCE:0
DTSTAMP:20260422T014254Z
DTSTART:20260226T070000Z
DTEND:20260226T084000Z
SUMMARY:Web-дизайн
LOCATION:ГЗ 303 (6)
END:VEVENT
BEGIN:VEVENT
UID:mh8h@192.168.245.71:3006
SEQUENCE:0
DTSTAMP:20260422T014254Z
DTSTART:20260226T090000Z
DTEND:20260226T104000Z
SUMMARY:Мультимедийные технологии в дизайне
LOCATION:ГЗ 301 А
END:VEVENT
BEGIN:VEVENT
UID:wd2o@192.168.245.71:3006
SEQUENCE:0
DTSTAMP:20260422T014254Z
DTSTART:20260226T110000Z
DTEND:20260226T124000Z
SUMMARY:Дизайн-проектирование
LOCATION:НИК В2.20 (2)
END:VEVENT
BEGIN:VEVENT
UID:2xg1@192.168.245.71:3006
SEQUENCE:0
DTSTAMP:20260422T014254Z
DTSTART:20260226T130000Z
DTEND:20260226T135000Z
SUMMARY:Дизайн-проектирование
LOCATION:НИК В2.20 (2)
END:VEVENT
BEGIN:VEVENT
UID:xtis@192.168.245.71:3006
SEQUENCE:0
DTSTAMP:20260422T014254Z
DTSTART:20260227T150000Z
DTEND:20260227T163000Z
SUMMARY:Проектирование упаковки
LOCATION:НИК В2.20 (2)
END:VEVENT
BEGIN:VEVENT
UID:dckc@192.168.245.71:3006
SEQUENCE:0
DTSTAMP:20260422T014254Z
DTSTART:20260227T163000Z
DTEND:20260227T173000Z
SUMMARY:Проектирование упаковки
LOCATION:НИК В2.20 (2)
END:VEVENT
END:VCALENDAR