BEGIN:VCALENDAR
VERSION:2.0
PRODID:-//spbstu.ru//ical//RU
NAME:Расписание группы 3135401/20201
X-WR-CALNAME:Расписание группы 3135401/20201
TIMEZONE-ID:Europe/Moscow
X-WR-TIMEZONE:Europe/Moscow
BEGIN:VEVENT
UID:uhey@192.168.245.71:3006
SEQUENCE:0
DTSTAMP:20260421T184405Z
DTSTART:20260303T150000Z
DTEND:20260303T164000Z
SUMMARY:Web-дизайн
LOCATION:ГЗ 303 (6)
END:VEVENT
BEGIN:VEVENT
UID:vhfj@192.168.245.71:3006
SEQUENCE:0
DTSTAMP:20260421T184405Z
DTSTART:20260305T070000Z
DTEND:20260305T084000Z
SUMMARY:Web-дизайн
LOCATION:ГЗ 303 (6)
END:VEVENT
BEGIN:VEVENT
UID:0wnq@192.168.245.71:3006
SEQUENCE:0
DTSTAMP:20260421T184405Z
DTSTART:20260305T090000Z
DTEND:20260305T104000Z
SUMMARY:Мультимедийные технологии в дизайне
LOCATION:ГЗ 301 А
END:VEVENT
BEGIN:VEVENT
UID:kybj@192.168.245.71:3006
SEQUENCE:0
DTSTAMP:20260421T184405Z
DTSTART:20260305T110000Z
DTEND:20260305T124000Z
SUMMARY:Дизайн-проектирование
LOCATION:НИК В2.20 (2)
END:VEVENT
BEGIN:VEVENT
UID:gpes@192.168.245.71:3006
SEQUENCE:0
DTSTAMP:20260421T184405Z
DTSTART:20260305T130000Z
DTEND:20260305T135000Z
SUMMARY:Дизайн-проектирование
LOCATION:НИК В2.20 (2)
END:VEVENT
BEGIN:VEVENT
UID:r49i@192.168.245.71:3006
SEQUENCE:0
DTSTAMP:20260421T184405Z
DTSTART:20260306T150000Z
DTEND:20260306T163000Z
SUMMARY:Проектирование упаковки
LOCATION:НИК В2.20 (2)
END:VEVENT
BEGIN:VEVENT
UID:tr61@192.168.245.71:3006
SEQUENCE:0
DTSTAMP:20260421T184405Z
DTSTART:20260306T163000Z
DTEND:20260306T173000Z
SUMMARY:Проектирование упаковки
LOCATION:НИК В2.20 (2)
END:VEVENT
END:VCALENDAR