BEGIN:VCALENDAR
VERSION:2.0
PRODID:-//spbstu.ru//ical//RU
NAME:Расписание группы 3135401/20302
X-WR-CALNAME:Расписание группы 3135401/20302
TIMEZONE-ID:Europe/Moscow
X-WR-TIMEZONE:Europe/Moscow
BEGIN:VEVENT
UID:m0ag@192.168.245.71:3006
SEQUENCE:0
DTSTAMP:20260425T105257Z
DTSTART:20250922T090000Z
DTEND:20250922T104000Z
SUMMARY:Персонажная анимация
LOCATION:ГЗ 301 А
END:VEVENT
BEGIN:VEVENT
UID:wos9@192.168.245.71:3006
SEQUENCE:0
DTSTAMP:20260425T105257Z
DTSTART:20250922T110000Z
DTEND:20250922T124000Z
SUMMARY:Дизайн-проектирование
LOCATION:НИК В2.20 (2)
END:VEVENT
BEGIN:VEVENT
UID:53be@192.168.245.71:3006
SEQUENCE:0
DTSTAMP:20260425T105257Z
DTSTART:20250922T130000Z
DTEND:20250922T144000Z
SUMMARY:Компьютерное моделирование
LOCATION:ГЗ 301 А
END:VEVENT
BEGIN:VEVENT
UID:o689@192.168.245.71:3006
SEQUENCE:0
DTSTAMP:20260425T105257Z
DTSTART:20250923T090000Z
DTEND:20250923T104000Z
SUMMARY:Дизайн-проектирование
LOCATION:ГЗ 301 А
END:VEVENT
BEGIN:VEVENT
UID:ol8x@192.168.245.71:3006
SEQUENCE:0
DTSTAMP:20260425T105257Z
DTSTART:20250924T090000Z
DTEND:20250924T104000Z
SUMMARY:Аудиовизуальные технологии в дизайне
LOCATION:НИК В2.22 (2)
END:VEVENT
BEGIN:VEVENT
UID:qj46@192.168.245.71:3006
SEQUENCE:0
DTSTAMP:20260425T105257Z
DTSTART:20250924T110000Z
DTEND:20250924T124000Z
SUMMARY:Программирование компьютерных игр
LOCATION:ГЗ 301 А
END:VEVENT
BEGIN:VEVENT
UID:tp1w@192.168.245.71:3006
SEQUENCE:0
DTSTAMP:20260425T105257Z
DTSTART:20250925T110000Z
DTEND:20250925T124000Z
SUMMARY:Интеллектуальные системы и технологии
LOCATION:НИК В2.22 (2)
END:VEVENT
BEGIN:VEVENT
UID:56sf@192.168.245.71:3006
SEQUENCE:0
DTSTAMP:20260425T105257Z
DTSTART:20250925T130000Z
DTEND:20250925T154000Z
SUMMARY:Дизайн интерфейсов
LOCATION:ГЗ 303 (5)
END:VEVENT
BEGIN:VEVENT
UID:pysr@192.168.245.71:3006
SEQUENCE:0
DTSTAMP:20260425T105257Z
DTSTART:20250926T120000Z
DTEND:20250926T144000Z
SUMMARY:Проектирование фирменного стиля
LOCATION:НИК В2.22 (2)
END:VEVENT
END:VCALENDAR