BEGIN:VCALENDAR
VERSION:2.0
PRODID:-//spbstu.ru//ical//RU
NAME:Расписание группы 3150801/20102
X-WR-CALNAME:Расписание группы 3150801/20102
TIMEZONE-ID:Europe/Moscow
X-WR-TIMEZONE:Europe/Moscow
BEGIN:VEVENT
UID:zz9s@192.168.245.71:3006
SEQUENCE:0
DTSTAMP:20260425T230001Z
DTSTART:20251006T070000Z
DTEND:20251006T084000Z
SUMMARY:Военная подготовка
LOCATION:Военная каф. кафедра
END:VEVENT
BEGIN:VEVENT
UID:qw82@192.168.245.71:3006
SEQUENCE:0
DTSTAMP:20260425T230001Z
DTSTART:20251006T090000Z
DTEND:20251006T104000Z
SUMMARY:Военная подготовка
LOCATION:Военная каф. кафедра
END:VEVENT
BEGIN:VEVENT
UID:ru7a@192.168.245.71:3006
SEQUENCE:0
DTSTAMP:20260425T230001Z
DTSTART:20251006T110000Z
DTEND:20251006T124000Z
SUMMARY:Военная подготовка
LOCATION:Военная каф. кафедра
END:VEVENT
BEGIN:VEVENT
UID:q051@192.168.245.71:3006
SEQUENCE:0
DTSTAMP:20260425T230001Z
DTSTART:20251007T070000Z
DTEND:20251007T084000Z
SUMMARY:Экономика строительства
LOCATION:ГК-2 513
END:VEVENT
BEGIN:VEVENT
UID:6g5z@192.168.245.71:3006
SEQUENCE:0
DTSTAMP:20260425T230001Z
DTSTART:20251007T090000Z
DTEND:20251007T104000Z
SUMMARY:Конструкции из дерева и пластмасс
LOCATION:ГК-2 407
END:VEVENT
BEGIN:VEVENT
UID:ld3p@192.168.245.71:3006
SEQUENCE:0
DTSTAMP:20260425T230001Z
DTSTART:20251007T110000Z
DTEND:20251007T124000Z
SUMMARY:Теория упругости
LOCATION:ГК-2 513
END:VEVENT
BEGIN:VEVENT
UID:sdrl@192.168.245.71:3006
SEQUENCE:0
DTSTAMP:20260425T230001Z
DTSTART:20251008T070000Z
DTEND:20251008T084000Z
SUMMARY:Экономика строительства
LOCATION:ГК-2 412а
END:VEVENT
BEGIN:VEVENT
UID:fpex@192.168.245.71:3006
SEQUENCE:0
DTSTAMP:20260425T230001Z
DTSTART:20251008T110000Z
DTEND:20251008T124000Z
SUMMARY:Основания и фундаменты
LOCATION:ГК-2 412
END:VEVENT
BEGIN:VEVENT
UID:2m2x@192.168.245.71:3006
SEQUENCE:0
DTSTAMP:20260425T230001Z
DTSTART:20251009T070000Z
DTEND:20251009T084000Z
SUMMARY:Основания и фундаменты
LOCATION:ГК-2 513
END:VEVENT
BEGIN:VEVENT
UID:hisa@192.168.245.71:3006
SEQUENCE:0
DTSTAMP:20260425T230001Z
DTSTART:20251009T090000Z
DTEND:20251009T104000Z
SUMMARY:Параметрическое моделирование объектов строительства
LOCATION:ГК-2 407
END:VEVENT
BEGIN:VEVENT
UID:nxeh@192.168.245.71:3006
SEQUENCE:0
DTSTAMP:20260425T230001Z
DTSTART:20251009T110000Z
DTEND:20251009T124000Z
SUMMARY:Параметрическое моделирование объектов строительства
LOCATION:ГК-2 504
END:VEVENT
BEGIN:VEVENT
UID:f9d1@192.168.245.71:3006
SEQUENCE:0
DTSTAMP:20260425T230001Z
DTSTART:20251009T130000Z
DTEND:20251009T144000Z
SUMMARY:Проектирование высотных зданий
LOCATION:ГК-2 402
END:VEVENT
BEGIN:VEVENT
UID:wtvu@192.168.245.71:3006
SEQUENCE:0
DTSTAMP:20260425T230001Z
DTSTART:20251011T070000Z
DTEND:20251011T084000Z
SUMMARY:Проектирование промышленных зданий
LOCATION:ГК-2 110
END:VEVENT
BEGIN:VEVENT
UID:0xch@192.168.245.71:3006
SEQUENCE:0
DTSTAMP:20260425T230001Z
DTSTART:20251011T090000Z
DTEND:20251011T104000Z
SUMMARY:Проектирование промышленных зданий
LOCATION:ГК-2 405
END:VEVENT
END:VCALENDAR