BEGIN:VCALENDAR
VERSION:2.0
PRODID:-//spbstu.ru//ical//RU
NAME:Расписание группы 3150801/20102
X-WR-CALNAME:Расписание группы 3150801/20102
TIMEZONE-ID:Europe/Moscow
X-WR-TIMEZONE:Europe/Moscow
BEGIN:VEVENT
UID:b97z@192.168.245.71:3006
SEQUENCE:0
DTSTAMP:20260422T235720Z
DTSTART:20260202T070000Z
DTEND:20260202T084000Z
SUMMARY:Военная подготовка
LOCATION:Военная каф. кафедра
END:VEVENT
BEGIN:VEVENT
UID:k7r6@192.168.245.71:3006
SEQUENCE:0
DTSTAMP:20260422T235720Z
DTSTART:20260202T090000Z
DTEND:20260202T104000Z
SUMMARY:Военная подготовка
LOCATION:Военная каф. кафедра
END:VEVENT
BEGIN:VEVENT
UID:30kw@192.168.245.71:3006
SEQUENCE:0
DTSTAMP:20260422T235720Z
DTSTART:20260202T110000Z
DTEND:20260202T124000Z
SUMMARY:Военная подготовка
LOCATION:Военная каф. кафедра
END:VEVENT
BEGIN:VEVENT
UID:wds6@192.168.245.71:3006
SEQUENCE:0
DTSTAMP:20260422T235720Z
DTSTART:20260203T090000Z
DTEND:20260203T104000Z
SUMMARY:Организация\, планирование и управление в строительстве
LOCATION:ГК-2 512
END:VEVENT
BEGIN:VEVENT
UID:yuwc@192.168.245.71:3006
SEQUENCE:0
DTSTAMP:20260422T235720Z
DTSTART:20260203T110000Z
DTEND:20260203T124000Z
SUMMARY:Организация\, планирование и управление в строительстве
LOCATION:ГК-2 512
END:VEVENT
BEGIN:VEVENT
UID:kqil@192.168.245.71:3006
SEQUENCE:0
DTSTAMP:20260422T235720Z
DTSTART:20260204T090000Z
DTEND:20260204T104000Z
SUMMARY:Экономика строительства
LOCATION:ГК-2 504
END:VEVENT
BEGIN:VEVENT
UID:lap6@192.168.245.71:3006
SEQUENCE:0
DTSTAMP:20260422T235720Z
DTSTART:20260204T110000Z
DTEND:20260204T124000Z
SUMMARY:Технология возведения зданий и сооружений
LOCATION:ГК-2 512
END:VEVENT
BEGIN:VEVENT
UID:5t4k@192.168.245.71:3006
SEQUENCE:0
DTSTAMP:20260422T235720Z
DTSTART:20260204T130000Z
DTEND:20260204T144000Z
SUMMARY:Проектирование высотных зданий
LOCATION:ГК-2 402
END:VEVENT
BEGIN:VEVENT
UID:q6g2@192.168.245.71:3006
SEQUENCE:0
DTSTAMP:20260422T235720Z
DTSTART:20260205T070000Z
DTEND:20260205T084000Z
SUMMARY:Комплексное проектирование уникальных зданий и сооружений
LOCATION:ГК-2 506
END:VEVENT
BEGIN:VEVENT
UID:ybil@192.168.245.71:3006
SEQUENCE:0
DTSTAMP:20260422T235720Z
DTSTART:20260205T090000Z
DTEND:20260205T104000Z
SUMMARY:Проектирование высотных зданий
LOCATION:ГК-2 512
END:VEVENT
BEGIN:VEVENT
UID:a3n5@192.168.245.71:3006
SEQUENCE:0
DTSTAMP:20260422T235720Z
DTSTART:20260207T050000Z
DTEND:20260207T064000Z
SUMMARY:Динамика  уникальных зданий и сооружений
LOCATION:ГК-2 514
END:VEVENT
BEGIN:VEVENT
UID:a1c8@192.168.245.71:3006
SEQUENCE:0
DTSTAMP:20260422T235720Z
DTSTART:20260207T070000Z
DTEND:20260207T084000Z
SUMMARY:Технология возведения зданий и сооружений
LOCATION:ГК-2 405
END:VEVENT
BEGIN:VEVENT
UID:qwzc@192.168.245.71:3006
SEQUENCE:0
DTSTAMP:20260422T235720Z
DTSTART:20260207T090000Z
DTEND:20260207T104000Z
SUMMARY:Динамика  уникальных зданий и сооружений
LOCATION:ГК-2 513
END:VEVENT
END:VCALENDAR