BEGIN:VCALENDAR
VERSION:2.0
PRODID:-//spbstu.ru//ical//RU
NAME:Расписание группы 3150801/20102
X-WR-CALNAME:Расписание группы 3150801/20102
TIMEZONE-ID:Europe/Moscow
X-WR-TIMEZONE:Europe/Moscow
BEGIN:VEVENT
UID:hd9p@192.168.245.71:3006
SEQUENCE:0
DTSTAMP:20260422T025252Z
DTSTART:20260323T070000Z
DTEND:20260323T084000Z
SUMMARY:Военная подготовка
LOCATION:Военная каф. кафедра
END:VEVENT
BEGIN:VEVENT
UID:wo2n@192.168.245.71:3006
SEQUENCE:0
DTSTAMP:20260422T025252Z
DTSTART:20260323T090000Z
DTEND:20260323T104000Z
SUMMARY:Военная подготовка
LOCATION:Военная каф. кафедра
END:VEVENT
BEGIN:VEVENT
UID:2fxo@192.168.245.71:3006
SEQUENCE:0
DTSTAMP:20260422T025252Z
DTSTART:20260323T110000Z
DTEND:20260323T124000Z
SUMMARY:Военная подготовка
LOCATION:Военная каф. кафедра
END:VEVENT
BEGIN:VEVENT
UID:wjf5@192.168.245.71:3006
SEQUENCE:0
DTSTAMP:20260422T025252Z
DTSTART:20260324T070000Z
DTEND:20260324T084000Z
SUMMARY:Каменные конструкции
LOCATION:ГК-2 512
END:VEVENT
BEGIN:VEVENT
UID:ffir@192.168.245.71:3006
SEQUENCE:0
DTSTAMP:20260422T025252Z
DTSTART:20260324T070000Z
DTEND:20260324T084000Z
SUMMARY:Организация строительства
LOCATION:ГК-2 412
END:VEVENT
BEGIN:VEVENT
UID:oxxw@192.168.245.71:3006
SEQUENCE:0
DTSTAMP:20260422T025252Z
DTSTART:20260324T090000Z
DTEND:20260324T104000Z
SUMMARY:Каменные конструкции
LOCATION:ГК-2 512
END:VEVENT
BEGIN:VEVENT
UID:o9r6@192.168.245.71:3006
SEQUENCE:0
DTSTAMP:20260422T025252Z
DTSTART:20260326T070000Z
DTEND:20260326T084000Z
SUMMARY:Комплексное проектирование уникальных зданий и сооружений
LOCATION:ГК-2 406
END:VEVENT
BEGIN:VEVENT
UID:gttt@192.168.245.71:3006
SEQUENCE:0
DTSTAMP:20260422T025252Z
DTSTART:20260326T090000Z
DTEND:20260326T104000Z
SUMMARY:Экономика строительства
LOCATION:ГК-2 407
END:VEVENT
BEGIN:VEVENT
UID:yfvu@192.168.245.71:3006
SEQUENCE:0
DTSTAMP:20260422T025252Z
DTSTART:20260326T110000Z
DTEND:20260326T124000Z
SUMMARY:Комплексное проектирование уникальных зданий и сооружений
LOCATION:ГК-2 506
END:VEVENT
BEGIN:VEVENT
UID:tte8@192.168.245.71:3006
SEQUENCE:0
DTSTAMP:20260422T025252Z
DTSTART:20260326T130000Z
DTEND:20260326T144000Z
SUMMARY:Проектирование высотных зданий
LOCATION:ГК-2 402
END:VEVENT
BEGIN:VEVENT
UID:jofs@192.168.245.71:3006
SEQUENCE:0
DTSTAMP:20260422T025252Z
DTSTART:20260327T070000Z
DTEND:20260327T084000Z
SUMMARY:Здания и сооружения из монолитного железобетона
LOCATION:ГК-2 502
END:VEVENT
BEGIN:VEVENT
UID:tecn@192.168.245.71:3006
SEQUENCE:0
DTSTAMP:20260422T025252Z
DTSTART:20260327T090000Z
DTEND:20260327T104000Z
SUMMARY:Здания и сооружения из монолитного железобетона
LOCATION:ГК-2 502
END:VEVENT
BEGIN:VEVENT
UID:8wkt@192.168.245.71:3006
SEQUENCE:0
DTSTAMP:20260422T025252Z
DTSTART:20260328T070000Z
DTEND:20260328T084000Z
SUMMARY:Динамика  уникальных зданий и сооружений
LOCATION:ГК-2 514
END:VEVENT
BEGIN:VEVENT
UID:yn7f@192.168.245.71:3006
SEQUENCE:0
DTSTAMP:20260422T025252Z
DTSTART:20260328T090000Z
DTEND:20260328T104000Z
SUMMARY:Динамика  уникальных зданий и сооружений
LOCATION:ГК-2 513
END:VEVENT
END:VCALENDAR