BEGIN:VCALENDAR
VERSION:2.0
PRODID:-//spbstu.ru//ical//RU
NAME:Расписание группы 3150801/20102
X-WR-CALNAME:Расписание группы 3150801/20102
TIMEZONE-ID:Europe/Moscow
X-WR-TIMEZONE:Europe/Moscow
BEGIN:VEVENT
UID:sfyf@192.168.245.71:3006
SEQUENCE:0
DTSTAMP:20260422T011517Z
DTSTART:20260330T070000Z
DTEND:20260330T084000Z
SUMMARY:Военная подготовка
LOCATION:Военная каф. кафедра
END:VEVENT
BEGIN:VEVENT
UID:9jkv@192.168.245.71:3006
SEQUENCE:0
DTSTAMP:20260422T011517Z
DTSTART:20260330T090000Z
DTEND:20260330T104000Z
SUMMARY:Военная подготовка
LOCATION:Военная каф. кафедра
END:VEVENT
BEGIN:VEVENT
UID:i7nw@192.168.245.71:3006
SEQUENCE:0
DTSTAMP:20260422T011517Z
DTSTART:20260330T110000Z
DTEND:20260330T124000Z
SUMMARY:Военная подготовка
LOCATION:Военная каф. кафедра
END:VEVENT
BEGIN:VEVENT
UID:h8gn@192.168.245.71:3006
SEQUENCE:0
DTSTAMP:20260422T011517Z
DTSTART:20260331T090000Z
DTEND:20260331T104000Z
SUMMARY:Организация\, планирование и управление в строительстве
LOCATION:ГК-2 512
END:VEVENT
BEGIN:VEVENT
UID:8mba@192.168.245.71:3006
SEQUENCE:0
DTSTAMP:20260422T011517Z
DTSTART:20260331T110000Z
DTEND:20260331T124000Z
SUMMARY:Организация\, планирование и управление в строительстве
LOCATION:ГК-2 512
END:VEVENT
BEGIN:VEVENT
UID:5pi0@192.168.245.71:3006
SEQUENCE:0
DTSTAMP:20260422T011517Z
DTSTART:20260401T090000Z
DTEND:20260401T104000Z
SUMMARY:Экономика строительства
LOCATION:ГК-2 504
END:VEVENT
BEGIN:VEVENT
UID:bpqi@192.168.245.71:3006
SEQUENCE:0
DTSTAMP:20260422T011517Z
DTSTART:20260401T110000Z
DTEND:20260401T124000Z
SUMMARY:Технология возведения зданий и сооружений
LOCATION:ГК-2 512
END:VEVENT
BEGIN:VEVENT
UID:8p8k@192.168.245.71:3006
SEQUENCE:0
DTSTAMP:20260422T011517Z
DTSTART:20260401T130000Z
DTEND:20260401T144000Z
SUMMARY:Проектирование высотных зданий
LOCATION:ГК-2 402
END:VEVENT
BEGIN:VEVENT
UID:dqqf@192.168.245.71:3006
SEQUENCE:0
DTSTAMP:20260422T011517Z
DTSTART:20260402T070000Z
DTEND:20260402T084000Z
SUMMARY:Комплексное проектирование уникальных зданий и сооружений
LOCATION:ГК-2 506
END:VEVENT
BEGIN:VEVENT
UID:ej7m@192.168.245.71:3006
SEQUENCE:0
DTSTAMP:20260422T011517Z
DTSTART:20260402T090000Z
DTEND:20260402T104000Z
SUMMARY:Проектирование высотных зданий
LOCATION:ГК-2 512
END:VEVENT
BEGIN:VEVENT
UID:y61g@192.168.245.71:3006
SEQUENCE:0
DTSTAMP:20260422T011517Z
DTSTART:20260404T050000Z
DTEND:20260404T064000Z
SUMMARY:Динамика  уникальных зданий и сооружений
LOCATION:ГК-2 514
END:VEVENT
BEGIN:VEVENT
UID:yf7l@192.168.245.71:3006
SEQUENCE:0
DTSTAMP:20260422T011517Z
DTSTART:20260404T070000Z
DTEND:20260404T084000Z
SUMMARY:Технология возведения зданий и сооружений
LOCATION:ГК-2 405
END:VEVENT
BEGIN:VEVENT
UID:hdcf@192.168.245.71:3006
SEQUENCE:0
DTSTAMP:20260422T011517Z
DTSTART:20260404T090000Z
DTEND:20260404T104000Z
SUMMARY:Динамика  уникальных зданий и сооружений
LOCATION:ГК-2 513
END:VEVENT
END:VCALENDAR