BEGIN:VCALENDAR
VERSION:2.0
PRODID:-//spbstu.ru//ical//RU
NAME:Расписание группы 3150801/20102
X-WR-CALNAME:Расписание группы 3150801/20102
TIMEZONE-ID:Europe/Moscow
X-WR-TIMEZONE:Europe/Moscow
BEGIN:VEVENT
UID:r4wt@192.168.245.71:3006
SEQUENCE:0
DTSTAMP:20260422T032332Z
DTSTART:20260420T070000Z
DTEND:20260420T084000Z
SUMMARY:Военная подготовка
LOCATION:Военная каф. кафедра
END:VEVENT
BEGIN:VEVENT
UID:4wa1@192.168.245.71:3006
SEQUENCE:0
DTSTAMP:20260422T032332Z
DTSTART:20260420T090000Z
DTEND:20260420T104000Z
SUMMARY:Военная подготовка
LOCATION:Военная каф. кафедра
END:VEVENT
BEGIN:VEVENT
UID:n97q@192.168.245.71:3006
SEQUENCE:0
DTSTAMP:20260422T032332Z
DTSTART:20260420T110000Z
DTEND:20260420T124000Z
SUMMARY:Военная подготовка
LOCATION:Военная каф. кафедра
END:VEVENT
BEGIN:VEVENT
UID:bolv@192.168.245.71:3006
SEQUENCE:0
DTSTAMP:20260422T032332Z
DTSTART:20260421T070000Z
DTEND:20260421T084000Z
SUMMARY:Каменные конструкции
LOCATION:ГК-2 512
END:VEVENT
BEGIN:VEVENT
UID:hg3a@192.168.245.71:3006
SEQUENCE:0
DTSTAMP:20260422T032332Z
DTSTART:20260421T090000Z
DTEND:20260421T104000Z
SUMMARY:Каменные конструкции
LOCATION:ГК-2 512
END:VEVENT
BEGIN:VEVENT
UID:tc31@192.168.245.71:3006
SEQUENCE:0
DTSTAMP:20260422T032332Z
DTSTART:20260423T070000Z
DTEND:20260423T084000Z
SUMMARY:Комплексное проектирование уникальных зданий и сооружений
LOCATION:ГК-2 407
END:VEVENT
BEGIN:VEVENT
UID:5y96@192.168.245.71:3006
SEQUENCE:0
DTSTAMP:20260422T032332Z
DTSTART:20260423T090000Z
DTEND:20260423T104000Z
SUMMARY:Экономика строительства
LOCATION:ГК-2 407
END:VEVENT
BEGIN:VEVENT
UID:0696@192.168.245.71:3006
SEQUENCE:0
DTSTAMP:20260422T032332Z
DTSTART:20260423T110000Z
DTEND:20260423T124000Z
SUMMARY:Комплексное проектирование уникальных зданий и сооружений
LOCATION:ГК-2 506
END:VEVENT
BEGIN:VEVENT
UID:5k5q@192.168.245.71:3006
SEQUENCE:0
DTSTAMP:20260422T032332Z
DTSTART:20260423T130000Z
DTEND:20260423T144000Z
SUMMARY:Проектирование высотных зданий
LOCATION:ГК-2 402
END:VEVENT
BEGIN:VEVENT
UID:z6xa@192.168.245.71:3006
SEQUENCE:0
DTSTAMP:20260422T032332Z
DTSTART:20260424T070000Z
DTEND:20260424T084000Z
SUMMARY:Здания и сооружения из монолитного железобетона
LOCATION:ГК-2 502
END:VEVENT
BEGIN:VEVENT
UID:w5jq@192.168.245.71:3006
SEQUENCE:0
DTSTAMP:20260422T032332Z
DTSTART:20260424T090000Z
DTEND:20260424T104000Z
SUMMARY:Здания и сооружения из монолитного железобетона
LOCATION:ГК-2 502
END:VEVENT
BEGIN:VEVENT
UID:y4jc@192.168.245.71:3006
SEQUENCE:0
DTSTAMP:20260422T032332Z
DTSTART:20260425T070000Z
DTEND:20260425T084000Z
SUMMARY:Динамика  уникальных зданий и сооружений
LOCATION:ГК-2 514
END:VEVENT
BEGIN:VEVENT
UID:wh1k@192.168.245.71:3006
SEQUENCE:0
DTSTAMP:20260422T032332Z
DTSTART:20260425T090000Z
DTEND:20260425T104000Z
SUMMARY:Динамика  уникальных зданий и сооружений
LOCATION:ГК-2 513
END:VEVENT
END:VCALENDAR