BEGIN:VCALENDAR
VERSION:2.0
PRODID:-//spbstu.ru//ical//RU
NAME:Расписание группы 3150801/20201
X-WR-CALNAME:Расписание группы 3150801/20201
TIMEZONE-ID:Europe/Moscow
X-WR-TIMEZONE:Europe/Moscow
BEGIN:VEVENT
UID:nxi4@192.168.245.71:3006
SEQUENCE:0
DTSTAMP:20260425T020656Z
DTSTART:20251229T100000Z
DTEND:20251229T114000Z
SUMMARY:Обеспечение судоходства и компоновка порта
LOCATION:ГК-2 508
END:VEVENT
BEGIN:VEVENT
UID:w5yd@192.168.245.71:3006
SEQUENCE:0
DTSTAMP:20260425T020656Z
DTSTART:20251230T070000Z
DTEND:20251230T120000Z
SUMMARY:Обеспечение судоходства и компоновка порта
LOCATION:ГК-2 508
END:VEVENT
END:VCALENDAR