BEGIN:VCALENDAR
VERSION:2.0
PRODID:-//spbstu.ru//ical//RU
NAME:Расписание группы 3150801/20201
X-WR-CALNAME:Расписание группы 3150801/20201
TIMEZONE-ID:Europe/Moscow
X-WR-TIMEZONE:Europe/Moscow
BEGIN:VEVENT
UID:faij@192.168.245.71:3006
SEQUENCE:0
DTSTAMP:20260424T184201Z
DTSTART:20260112T070000Z
DTEND:20260112T074000Z
SUMMARY:Конструкции из дерева и пластмасс
LOCATION:ГК-2 508
END:VEVENT
BEGIN:VEVENT
UID:534d@192.168.245.71:3006
SEQUENCE:0
DTSTAMP:20260424T184201Z
DTSTART:20260112T080000Z
DTEND:20260112T140000Z
SUMMARY:Конструкции из дерева и пластмасс
LOCATION:ГК-2 508
END:VEVENT
BEGIN:VEVENT
UID:0zed@192.168.245.71:3006
SEQUENCE:0
DTSTAMP:20260424T184201Z
DTSTART:20260113T070000Z
DTEND:20260113T120000Z
SUMMARY:Конструкции из дерева и пластмасс
LOCATION:ГК-2 508
END:VEVENT
BEGIN:VEVENT
UID:4tsh@192.168.245.71:3006
SEQUENCE:0
DTSTAMP:20260424T184201Z
DTSTART:20260114T070000Z
DTEND:20260114T100000Z
SUMMARY:Обеспечение судоходства и компоновка порта
LOCATION:ГК-2 304
END:VEVENT
BEGIN:VEVENT
UID:b7w2@192.168.245.71:3006
SEQUENCE:0
DTSTAMP:20260424T184201Z
DTSTART:20260114T110000Z
DTEND:20260114T140000Z
SUMMARY:Цифровые технологии в проектировании и строительстве
LOCATION:ГК-2 209
END:VEVENT
BEGIN:VEVENT
UID:gg6x@192.168.245.71:3006
SEQUENCE:0
DTSTAMP:20260424T184201Z
DTSTART:20260115T090000Z
DTEND:20260115T104000Z
SUMMARY:НИР
LOCATION:ГК-2 301а
END:VEVENT
BEGIN:VEVENT
UID:gtfg@192.168.245.71:3006
SEQUENCE:0
DTSTAMP:20260424T184201Z
DTSTART:20260117T090000Z
DTEND:20260117T104000Z
SUMMARY:Водосбросные сооружения водохранилищных гидроузлов
LOCATION:ГК-2 502
END:VEVENT
END:VCALENDAR