BEGIN:VCALENDAR
VERSION:2.0
PRODID:-//spbstu.ru//ical//RU
NAME:Расписание группы 3150801/20201
X-WR-CALNAME:Расписание группы 3150801/20201
TIMEZONE-ID:Europe/Moscow
X-WR-TIMEZONE:Europe/Moscow
BEGIN:VEVENT
UID:pko1@192.168.245.71:3006
SEQUENCE:0
DTSTAMP:20260423T182626Z
DTSTART:20260216T070000Z
DTEND:20260216T084000Z
SUMMARY:Военная подготовка
LOCATION:Военная каф. кафедра
END:VEVENT
BEGIN:VEVENT
UID:6f00@192.168.245.71:3006
SEQUENCE:0
DTSTAMP:20260423T182626Z
DTSTART:20260216T090000Z
DTEND:20260216T104000Z
SUMMARY:Военная подготовка
LOCATION:Военная каф. кафедра
END:VEVENT
BEGIN:VEVENT
UID:50sv@192.168.245.71:3006
SEQUENCE:0
DTSTAMP:20260423T182626Z
DTSTART:20260216T110000Z
DTEND:20260216T124000Z
SUMMARY:Военная подготовка
LOCATION:Военная каф. кафедра
END:VEVENT
BEGIN:VEVENT
UID:22ci@192.168.245.71:3006
SEQUENCE:0
DTSTAMP:20260423T182626Z
DTSTART:20260216T150000Z
DTEND:20260216T164000Z
SUMMARY:Обеспечение судоходства и компоновка порта
LOCATION:ГК-2 508
END:VEVENT
BEGIN:VEVENT
UID:4yjl@192.168.245.71:3006
SEQUENCE:0
DTSTAMP:20260423T182626Z
DTSTART:20260217T070000Z
DTEND:20260217T084000Z
SUMMARY:ГТС низконапорных гидроузлов
LOCATION:ГК-2 502
END:VEVENT
BEGIN:VEVENT
UID:8k3w@192.168.245.71:3006
SEQUENCE:0
DTSTAMP:20260423T182626Z
DTSTART:20260217T090000Z
DTEND:20260217T104000Z
SUMMARY:ГТС низконапорных гидроузлов
LOCATION:ГК-2 502
END:VEVENT
BEGIN:VEVENT
UID:43sn@192.168.245.71:3006
SEQUENCE:0
DTSTAMP:20260423T182626Z
DTSTART:20260217T110000Z
DTEND:20260217T124000Z
SUMMARY:Физико-механические процессы взаимодействия ГТС с окружающей средо
 й
LOCATION:ГК-2 209
END:VEVENT
BEGIN:VEVENT
UID:pt5v@192.168.245.71:3006
SEQUENCE:0
DTSTAMP:20260423T182626Z
DTSTART:20260217T130000Z
DTEND:20260217T144000Z
SUMMARY:Технологические процессы в строительстве
LOCATION:ГК-2 304
END:VEVENT
BEGIN:VEVENT
UID:kjd3@192.168.245.71:3006
SEQUENCE:0
DTSTAMP:20260423T182626Z
DTSTART:20260218T070000Z
DTEND:20260218T084000Z
SUMMARY:Каменные конструкции
LOCATION:ГК-2 507
END:VEVENT
BEGIN:VEVENT
UID:v6gx@192.168.245.71:3006
SEQUENCE:0
DTSTAMP:20260423T182626Z
DTSTART:20260218T090000Z
DTEND:20260218T104000Z
SUMMARY:Теоретические основы возобновляемой энергетики
LOCATION:ГК-2 207а
END:VEVENT
BEGIN:VEVENT
UID:78ew@192.168.245.71:3006
SEQUENCE:0
DTSTAMP:20260423T182626Z
DTSTART:20260218T110000Z
DTEND:20260218T124000Z
SUMMARY:Теоретические основы возобновляемой энергетики
LOCATION:ГК-2 207а
END:VEVENT
BEGIN:VEVENT
UID:sl04@192.168.245.71:3006
SEQUENCE:0
DTSTAMP:20260423T182626Z
DTSTART:20260218T130000Z
DTEND:20260218T144000Z
SUMMARY:Экономика строительства
LOCATION:ГК-2 310
END:VEVENT
BEGIN:VEVENT
UID:djs1@192.168.245.71:3006
SEQUENCE:0
DTSTAMP:20260423T182626Z
DTSTART:20260218T150000Z
DTEND:20260218T164000Z
SUMMARY:Цифровые технологии в проектировании и строительстве
LOCATION:ГК-2 209
END:VEVENT
BEGIN:VEVENT
UID:etks@192.168.245.71:3006
SEQUENCE:0
DTSTAMP:20260423T182626Z
DTSTART:20260219T070000Z
DTEND:20260219T084000Z
SUMMARY:Морские нефтегазовые сооружения
LOCATION:ГК-2 507
END:VEVENT
BEGIN:VEVENT
UID:1uhw@192.168.245.71:3006
SEQUENCE:0
DTSTAMP:20260423T182626Z
DTSTART:20260219T090000Z
DTEND:20260219T104000Z
SUMMARY:Вероятностные методы расчета в ГТС
LOCATION:ГК-2 315
END:VEVENT
BEGIN:VEVENT
UID:iqou@192.168.245.71:3006
SEQUENCE:0
DTSTAMP:20260423T182626Z
DTSTART:20260219T110000Z
DTEND:20260219T124000Z
SUMMARY:Морские нефтегазовые сооружения
LOCATION:ГК-2 507
END:VEVENT
BEGIN:VEVENT
UID:nbel@192.168.245.71:3006
SEQUENCE:0
DTSTAMP:20260423T182626Z
DTSTART:20260219T130000Z
DTEND:20260219T144000Z
SUMMARY:Цифровые технологии в проектировании и строительстве
LOCATION:ГК-2 209
END:VEVENT
BEGIN:VEVENT
UID:3ooz@192.168.245.71:3006
SEQUENCE:0
DTSTAMP:20260423T182626Z
DTSTART:20260219T150000Z
DTEND:20260219T164000Z
SUMMARY:Водосбросные сооружения водохранилищных гидроузлов
LOCATION:ГК-2 502
END:VEVENT
BEGIN:VEVENT
UID:36w7@192.168.245.71:3006
SEQUENCE:0
DTSTAMP:20260423T182626Z
DTSTART:20260220T150000Z
DTEND:20260220T164000Z
SUMMARY:Обеспечение судоходства и компоновка порта
LOCATION:ГК-2 508
END:VEVENT
BEGIN:VEVENT
UID:psce@192.168.245.71:3006
SEQUENCE:0
DTSTAMP:20260423T182626Z
DTSTART:20260221T090000Z
DTEND:20260221T104000Z
SUMMARY:Динамика  уникальных зданий и сооружений
LOCATION:ГК-2 513
END:VEVENT
BEGIN:VEVENT
UID:4qm5@192.168.245.71:3006
SEQUENCE:0
DTSTAMP:20260423T182626Z
DTSTART:20260221T110000Z
DTEND:20260221T124000Z
SUMMARY:Динамика  уникальных зданий и сооружений
LOCATION:ГК-2 514
END:VEVENT
END:VCALENDAR