BEGIN:VCALENDAR
VERSION:2.0
PRODID:-//spbstu.ru//ical//RU
NAME:Расписание группы 3150801/20201
X-WR-CALNAME:Расписание группы 3150801/20201
TIMEZONE-ID:Europe/Moscow
X-WR-TIMEZONE:Europe/Moscow
BEGIN:VEVENT
UID:nfj9@192.168.245.71:3006
SEQUENCE:0
DTSTAMP:20260424T013529Z
DTSTART:20260209T070000Z
DTEND:20260209T084000Z
SUMMARY:Военная подготовка
LOCATION:Военная каф. кафедра
END:VEVENT
BEGIN:VEVENT
UID:au1y@192.168.245.71:3006
SEQUENCE:0
DTSTAMP:20260424T013529Z
DTSTART:20260209T090000Z
DTEND:20260209T104000Z
SUMMARY:Военная подготовка
LOCATION:Военная каф. кафедра
END:VEVENT
BEGIN:VEVENT
UID:pbac@192.168.245.71:3006
SEQUENCE:0
DTSTAMP:20260424T013529Z
DTSTART:20260209T110000Z
DTEND:20260209T124000Z
SUMMARY:Военная подготовка
LOCATION:Военная каф. кафедра
END:VEVENT
BEGIN:VEVENT
UID:kdd1@192.168.245.71:3006
SEQUENCE:0
DTSTAMP:20260424T013529Z
DTSTART:20260210T090000Z
DTEND:20260210T104000Z
SUMMARY:ГТС низконапорных гидроузлов
LOCATION:ГК-2 502
END:VEVENT
BEGIN:VEVENT
UID:3lci@192.168.245.71:3006
SEQUENCE:0
DTSTAMP:20260424T013529Z
DTSTART:20260210T110000Z
DTEND:20260210T124000Z
SUMMARY:Физико-механические процессы взаимодействия ГТС с окружающей средо
 й
LOCATION:ГК-2 209
END:VEVENT
BEGIN:VEVENT
UID:nyuf@192.168.245.71:3006
SEQUENCE:0
DTSTAMP:20260424T013529Z
DTSTART:20260210T130000Z
DTEND:20260210T144000Z
SUMMARY:Физико-механические процессы взаимодействия ГТС с окружающей средо
 й
LOCATION:ГК-2 209
END:VEVENT
BEGIN:VEVENT
UID:o4im@192.168.245.71:3006
SEQUENCE:0
DTSTAMP:20260424T013529Z
DTSTART:20260211T070000Z
DTEND:20260211T084000Z
SUMMARY:Каменные конструкции
LOCATION:ГК-2 507
END:VEVENT
BEGIN:VEVENT
UID:um4f@192.168.245.71:3006
SEQUENCE:0
DTSTAMP:20260424T013529Z
DTSTART:20260211T090000Z
DTEND:20260211T104000Z
SUMMARY:Теоретические основы возобновляемой энергетики
LOCATION:ГК-2 207а
END:VEVENT
BEGIN:VEVENT
UID:liqu@192.168.245.71:3006
SEQUENCE:0
DTSTAMP:20260424T013529Z
DTSTART:20260211T110000Z
DTEND:20260211T124000Z
SUMMARY:Теоретические основы возобновляемой энергетики
LOCATION:ГК-2 207а
END:VEVENT
BEGIN:VEVENT
UID:pw2c@192.168.245.71:3006
SEQUENCE:0
DTSTAMP:20260424T013529Z
DTSTART:20260211T130000Z
DTEND:20260211T144000Z
SUMMARY:Конструкции из дерева и пластмасс
LOCATION:ГК-2 508
END:VEVENT
BEGIN:VEVENT
UID:oxhd@192.168.245.71:3006
SEQUENCE:0
DTSTAMP:20260424T013529Z
DTSTART:20260212T070000Z
DTEND:20260212T084000Z
SUMMARY:Вероятностные методы расчета в ГТС
LOCATION:ГК-2 315
END:VEVENT
BEGIN:VEVENT
UID:2a6u@192.168.245.71:3006
SEQUENCE:0
DTSTAMP:20260424T013529Z
DTSTART:20260212T090000Z
DTEND:20260212T104000Z
SUMMARY:Экономика строительства
LOCATION:ГК-2 407
END:VEVENT
BEGIN:VEVENT
UID:zgla@192.168.245.71:3006
SEQUENCE:0
DTSTAMP:20260424T013529Z
DTSTART:20260212T110000Z
DTEND:20260212T124000Z
SUMMARY:Морские нефтегазовые сооружения
LOCATION:ГК-2 507
END:VEVENT
BEGIN:VEVENT
UID:7nll@192.168.245.71:3006
SEQUENCE:0
DTSTAMP:20260424T013529Z
DTSTART:20260212T130000Z
DTEND:20260212T144000Z
SUMMARY:Цифровые технологии в проектировании и строительстве
LOCATION:ГК-2 209
END:VEVENT
BEGIN:VEVENT
UID:yp5n@192.168.245.71:3006
SEQUENCE:0
DTSTAMP:20260424T013529Z
DTSTART:20260212T150000Z
DTEND:20260212T164000Z
SUMMARY:Экономика строительства
LOCATION:ГК-2 310
END:VEVENT
BEGIN:VEVENT
UID:ix5b@192.168.245.71:3006
SEQUENCE:0
DTSTAMP:20260424T013529Z
DTSTART:20260213T110000Z
DTEND:20260213T124000Z
SUMMARY:Организация строительства
LOCATION:ГК-2 412
END:VEVENT
BEGIN:VEVENT
UID:2sgx@192.168.245.71:3006
SEQUENCE:0
DTSTAMP:20260424T013529Z
DTSTART:20260214T090000Z
DTEND:20260214T104000Z
SUMMARY:Динамика  уникальных зданий и сооружений
LOCATION:ГК-2 513
END:VEVENT
BEGIN:VEVENT
UID:kky1@192.168.245.71:3006
SEQUENCE:0
DTSTAMP:20260424T013529Z
DTSTART:20260214T110000Z
DTEND:20260214T124000Z
SUMMARY:Динамика  уникальных зданий и сооружений
LOCATION:ГК-2 514
END:VEVENT
END:VCALENDAR