BEGIN:VCALENDAR
VERSION:2.0
PRODID:-//spbstu.ru//ical//RU
NAME:Расписание группы 3150801/10102
X-WR-CALNAME:Расписание группы 3150801/10102
TIMEZONE-ID:Europe/Moscow
X-WR-TIMEZONE:Europe/Moscow
BEGIN:VEVENT
UID:52ql@192.168.245.71:3006
SEQUENCE:0
DTSTAMP:20260424T050637Z
DTSTART:20251027T050000Z
DTEND:20251027T064000Z
SUMMARY:Обследование зданий и сооружений
LOCATION:ГК-2 407
END:VEVENT
BEGIN:VEVENT
UID:hd6u@192.168.245.71:3006
SEQUENCE:0
DTSTAMP:20260424T050637Z
DTSTART:20251027T070000Z
DTEND:20251027T084000Z
SUMMARY:Обследование зданий и сооружений
LOCATION:ГК-2 514
END:VEVENT
BEGIN:VEVENT
UID:rygu@192.168.245.71:3006
SEQUENCE:0
DTSTAMP:20260424T050637Z
DTSTART:20251027T090000Z
DTEND:20251027T104000Z
SUMMARY:Иностранный язык в профессиональной деятельности
LOCATION:ГК-2 502
END:VEVENT
BEGIN:VEVENT
UID:lfyh@192.168.245.71:3006
SEQUENCE:0
DTSTAMP:20260424T050637Z
DTSTART:20251028T090000Z
DTEND:20251028T104000Z
SUMMARY:Проектирование фасадных конструкций
LOCATION:ГК-2 401
END:VEVENT
BEGIN:VEVENT
UID:du8h@192.168.245.71:3006
SEQUENCE:0
DTSTAMP:20260424T050637Z
DTSTART:20251028T110000Z
DTEND:20251028T124000Z
SUMMARY:Иностранный язык в профессиональной деятельности
LOCATION:ГК-2 507
END:VEVENT
BEGIN:VEVENT
UID:ur2t@192.168.245.71:3006
SEQUENCE:0
DTSTAMP:20260424T050637Z
DTSTART:20251028T130000Z
DTEND:20251028T144000Z
SUMMARY:Технология и организация возведения уникальных зданий и сооружений
LOCATION:ГК-2 407
END:VEVENT
BEGIN:VEVENT
UID:82fn@192.168.245.71:3006
SEQUENCE:0
DTSTAMP:20260424T050637Z
DTSTART:20251030T090000Z
DTEND:20251030T104000Z
SUMMARY:Геодезическое обеспечение строительства уникальных зданий и сооруж
 ений
LOCATION:ГК 108
END:VEVENT
BEGIN:VEVENT
UID:1mot@192.168.245.71:3006
SEQUENCE:0
DTSTAMP:20260424T050637Z
DTSTART:20251030T110000Z
DTEND:20251030T124000Z
SUMMARY:Проектирование фасадных конструкций
LOCATION:ГК-2 110
END:VEVENT
BEGIN:VEVENT
UID:bze0@192.168.245.71:3006
SEQUENCE:0
DTSTAMP:20260424T050637Z
DTSTART:20251030T130000Z
DTEND:20251030T144000Z
SUMMARY:Иностранный язык в профессиональной деятельности
LOCATION:ГК 230
END:VEVENT
BEGIN:VEVENT
UID:9xw6@192.168.245.71:3006
SEQUENCE:0
DTSTAMP:20260424T050637Z
DTSTART:20251031T070000Z
DTEND:20251031T084000Z
SUMMARY:Проектирование большепролетных сооружений
LOCATION:ГК-2 512
END:VEVENT
BEGIN:VEVENT
UID:yuml@192.168.245.71:3006
SEQUENCE:0
DTSTAMP:20260424T050637Z
DTSTART:20251031T090000Z
DTEND:20251031T104000Z
SUMMARY:Основы МКЭ
LOCATION:ГК-2 513
END:VEVENT
BEGIN:VEVENT
UID:hy9p@192.168.245.71:3006
SEQUENCE:0
DTSTAMP:20260424T050637Z
DTSTART:20251031T110000Z
DTEND:20251031T124000Z
SUMMARY:Вентиляция и кондиционирование зданий и сооружений
LOCATION:ГЗ 215
END:VEVENT
BEGIN:VEVENT
UID:8eit@192.168.245.71:3006
SEQUENCE:0
DTSTAMP:20260424T050637Z
DTSTART:20251031T130000Z
DTEND:20251031T144000Z
SUMMARY:Проектирование большепролетных сооружений
LOCATION:ГК-2 506
END:VEVENT
END:VCALENDAR