BEGIN:VCALENDAR
VERSION:2.0
PRODID:-//spbstu.ru//ical//RU
NAME:Расписание группы 3150801/10102
X-WR-CALNAME:Расписание группы 3150801/10102
TIMEZONE-ID:Europe/Moscow
X-WR-TIMEZONE:Europe/Moscow
BEGIN:VEVENT
UID:9rfp@192.168.245.71:3006
SEQUENCE:0
DTSTAMP:20260423T165016Z
DTSTART:20251124T050000Z
DTEND:20251124T064000Z
SUMMARY:Обследование зданий и сооружений
LOCATION:ГК-2 407
END:VEVENT
BEGIN:VEVENT
UID:287o@192.168.245.71:3006
SEQUENCE:0
DTSTAMP:20260423T165016Z
DTSTART:20251124T070000Z
DTEND:20251124T084000Z
SUMMARY:Обследование зданий и сооружений
LOCATION:ГК-2 514
END:VEVENT
BEGIN:VEVENT
UID:zgrx@192.168.245.71:3006
SEQUENCE:0
DTSTAMP:20260423T165016Z
DTSTART:20251124T090000Z
DTEND:20251124T104000Z
SUMMARY:Иностранный язык в профессиональной деятельности
LOCATION:ГК-2 502
END:VEVENT
BEGIN:VEVENT
UID:pz8q@192.168.245.71:3006
SEQUENCE:0
DTSTAMP:20260423T165016Z
DTSTART:20251125T090000Z
DTEND:20251125T104000Z
SUMMARY:Проектирование фасадных конструкций
LOCATION:ГК-2 401
END:VEVENT
BEGIN:VEVENT
UID:ovpk@192.168.245.71:3006
SEQUENCE:0
DTSTAMP:20260423T165016Z
DTSTART:20251125T110000Z
DTEND:20251125T124000Z
SUMMARY:Иностранный язык в профессиональной деятельности
LOCATION:ГК-2 507
END:VEVENT
BEGIN:VEVENT
UID:8yf6@192.168.245.71:3006
SEQUENCE:0
DTSTAMP:20260423T165016Z
DTSTART:20251125T130000Z
DTEND:20251125T144000Z
SUMMARY:Технология и организация возведения уникальных зданий и сооружений
LOCATION:ГК-2 407
END:VEVENT
BEGIN:VEVENT
UID:4xah@192.168.245.71:3006
SEQUENCE:0
DTSTAMP:20260423T165016Z
DTSTART:20251127T090000Z
DTEND:20251127T104000Z
SUMMARY:Геодезическое обеспечение строительства уникальных зданий и сооруж
 ений
LOCATION:ГК 108
END:VEVENT
BEGIN:VEVENT
UID:q3ve@192.168.245.71:3006
SEQUENCE:0
DTSTAMP:20260423T165016Z
DTSTART:20251127T110000Z
DTEND:20251127T124000Z
SUMMARY:Проектирование фасадных конструкций
LOCATION:ГК-2 110
END:VEVENT
BEGIN:VEVENT
UID:p6ec@192.168.245.71:3006
SEQUENCE:0
DTSTAMP:20260423T165016Z
DTSTART:20251127T130000Z
DTEND:20251127T144000Z
SUMMARY:Иностранный язык в профессиональной деятельности
LOCATION:ГК 230
END:VEVENT
BEGIN:VEVENT
UID:tbsd@192.168.245.71:3006
SEQUENCE:0
DTSTAMP:20260423T165016Z
DTSTART:20251128T070000Z
DTEND:20251128T084000Z
SUMMARY:Проектирование большепролетных сооружений
LOCATION:ГК-2 512
END:VEVENT
BEGIN:VEVENT
UID:bkvq@192.168.245.71:3006
SEQUENCE:0
DTSTAMP:20260423T165016Z
DTSTART:20251128T090000Z
DTEND:20251128T104000Z
SUMMARY:Основы МКЭ
LOCATION:ГК-2 513
END:VEVENT
BEGIN:VEVENT
UID:u0tg@192.168.245.71:3006
SEQUENCE:0
DTSTAMP:20260423T165016Z
DTSTART:20251128T110000Z
DTEND:20251128T124000Z
SUMMARY:Вентиляция и кондиционирование зданий и сооружений
LOCATION:ГЗ 215
END:VEVENT
BEGIN:VEVENT
UID:xfd8@192.168.245.71:3006
SEQUENCE:0
DTSTAMP:20260423T165016Z
DTSTART:20251128T130000Z
DTEND:20251128T144000Z
SUMMARY:Проектирование большепролетных сооружений
LOCATION:ГК-2 506
END:VEVENT
END:VCALENDAR