BEGIN:VCALENDAR
VERSION:2.0
PRODID:-//spbstu.ru//ical//RU
NAME:Расписание группы 3150801/10102
X-WR-CALNAME:Расписание группы 3150801/10102
TIMEZONE-ID:Europe/Moscow
X-WR-TIMEZONE:Europe/Moscow
BEGIN:VEVENT
UID:fut6@192.168.245.71:3006
SEQUENCE:0
DTSTAMP:20260424T175334Z
DTSTART:20250929T050000Z
DTEND:20250929T064000Z
SUMMARY:Обследование зданий и сооружений
LOCATION:ГК-2 407
END:VEVENT
BEGIN:VEVENT
UID:35wb@192.168.245.71:3006
SEQUENCE:0
DTSTAMP:20260424T175334Z
DTSTART:20250929T070000Z
DTEND:20250929T084000Z
SUMMARY:Обследование зданий и сооружений
LOCATION:ГК-2 514
END:VEVENT
BEGIN:VEVENT
UID:vaph@192.168.245.71:3006
SEQUENCE:0
DTSTAMP:20260424T175334Z
DTSTART:20250929T090000Z
DTEND:20250929T104000Z
SUMMARY:Иностранный язык в профессиональной деятельности
LOCATION:ГК-2 502
END:VEVENT
BEGIN:VEVENT
UID:0hhf@192.168.245.71:3006
SEQUENCE:0
DTSTAMP:20260424T175334Z
DTSTART:20250930T090000Z
DTEND:20250930T104000Z
SUMMARY:Проектирование фасадных конструкций
LOCATION:ГК-2 401
END:VEVENT
BEGIN:VEVENT
UID:q0m1@192.168.245.71:3006
SEQUENCE:0
DTSTAMP:20260424T175334Z
DTSTART:20250930T110000Z
DTEND:20250930T124000Z
SUMMARY:Иностранный язык в профессиональной деятельности
LOCATION:ГК-2 507
END:VEVENT
BEGIN:VEVENT
UID:nq5e@192.168.245.71:3006
SEQUENCE:0
DTSTAMP:20260424T175334Z
DTSTART:20250930T130000Z
DTEND:20250930T144000Z
SUMMARY:Технология и организация возведения уникальных зданий и сооружений
LOCATION:ГК-2 407
END:VEVENT
BEGIN:VEVENT
UID:5t3l@192.168.245.71:3006
SEQUENCE:0
DTSTAMP:20260424T175334Z
DTSTART:20251002T090000Z
DTEND:20251002T104000Z
SUMMARY:Геодезическое обеспечение строительства уникальных зданий и сооруж
 ений
LOCATION:ГК 108
END:VEVENT
BEGIN:VEVENT
UID:6s4j@192.168.245.71:3006
SEQUENCE:0
DTSTAMP:20260424T175334Z
DTSTART:20251002T110000Z
DTEND:20251002T124000Z
SUMMARY:Проектирование фасадных конструкций
LOCATION:ГК-2 110
END:VEVENT
BEGIN:VEVENT
UID:uh88@192.168.245.71:3006
SEQUENCE:0
DTSTAMP:20260424T175334Z
DTSTART:20251002T130000Z
DTEND:20251002T144000Z
SUMMARY:Иностранный язык в профессиональной деятельности
LOCATION:ГК 230
END:VEVENT
BEGIN:VEVENT
UID:bcfu@192.168.245.71:3006
SEQUENCE:0
DTSTAMP:20260424T175334Z
DTSTART:20251003T070000Z
DTEND:20251003T084000Z
SUMMARY:Проектирование большепролетных сооружений
LOCATION:ГК-2 512
END:VEVENT
BEGIN:VEVENT
UID:s9h0@192.168.245.71:3006
SEQUENCE:0
DTSTAMP:20260424T175334Z
DTSTART:20251003T090000Z
DTEND:20251003T104000Z
SUMMARY:Основы МКЭ
LOCATION:ГК-2 513
END:VEVENT
BEGIN:VEVENT
UID:uqnr@192.168.245.71:3006
SEQUENCE:0
DTSTAMP:20260424T175334Z
DTSTART:20251003T110000Z
DTEND:20251003T124000Z
SUMMARY:Вентиляция и кондиционирование зданий и сооружений
LOCATION:ГЗ 215
END:VEVENT
BEGIN:VEVENT
UID:haqg@192.168.245.71:3006
SEQUENCE:0
DTSTAMP:20260424T175334Z
DTSTART:20251003T130000Z
DTEND:20251003T144000Z
SUMMARY:Проектирование большепролетных сооружений
LOCATION:ГК-2 506
END:VEVENT
END:VCALENDAR