BEGIN:VCALENDAR
VERSION:2.0
PRODID:-//spbstu.ru//ical//RU
NAME:Расписание группы 3150801/10102
X-WR-CALNAME:Расписание группы 3150801/10102
TIMEZONE-ID:Europe/Moscow
X-WR-TIMEZONE:Europe/Moscow
BEGIN:VEVENT
UID:srf5@192.168.245.71:3006
SEQUENCE:0
DTSTAMP:20260421T094040Z
DTSTART:20260413T090000Z
DTEND:20260413T104000Z
SUMMARY:Проектные требования пожарной безопасности уникальных зданий и соо
 ружений
LOCATION:ГК-2 406
END:VEVENT
BEGIN:VEVENT
UID:4es0@192.168.245.71:3006
SEQUENCE:0
DTSTAMP:20260421T094040Z
DTSTART:20260413T110000Z
DTEND:20260413T124000Z
SUMMARY:Проектирование систем энергоснабженмя зданий и сооружений
LOCATION:ГК-2 404
END:VEVENT
BEGIN:VEVENT
UID:wdqi@192.168.245.71:3006
SEQUENCE:0
DTSTAMP:20260421T094040Z
DTSTART:20260413T130000Z
DTEND:20260413T144000Z
SUMMARY:Математическое моделирование в строительстве
LOCATION:ГК-2 512
END:VEVENT
BEGIN:VEVENT
UID:54u7@192.168.245.71:3006
SEQUENCE:0
DTSTAMP:20260421T094040Z
DTSTART:20260417T050000Z
DTEND:20260417T064000Z
SUMMARY:Использование современных программных комплексов в строительстве
LOCATION:ГК-2 310
END:VEVENT
BEGIN:VEVENT
UID:4ziy@192.168.245.71:3006
SEQUENCE:0
DTSTAMP:20260421T094040Z
DTSTART:20260417T070000Z
DTEND:20260417T084000Z
SUMMARY:Математическое моделирование в строительстве
LOCATION:ГК-2 404
END:VEVENT
BEGIN:VEVENT
UID:7ap9@192.168.245.71:3006
SEQUENCE:0
DTSTAMP:20260421T094040Z
DTSTART:20260417T090000Z
DTEND:20260417T104000Z
SUMMARY:Цифровые технологии в строительстве
LOCATION:ГК-2 406
END:VEVENT
BEGIN:VEVENT
UID:xncm@192.168.245.71:3006
SEQUENCE:0
DTSTAMP:20260421T094040Z
DTSTART:20260417T110000Z
DTEND:20260417T124000Z
SUMMARY:Проектирование большепролетных сооружений
LOCATION:ГК-2 406
END:VEVENT
BEGIN:VEVENT
UID:etfo@192.168.245.71:3006
SEQUENCE:0
DTSTAMP:20260421T094040Z
DTSTART:20260418T070000Z
DTEND:20260418T084000Z
SUMMARY:Проектирование большепролетных сооружений
LOCATION:ГК-2 504
END:VEVENT
END:VCALENDAR