BEGIN:VCALENDAR
VERSION:2.0
PRODID:-//spbstu.ru//ical//RU
NAME:Расписание группы 3150801/00101
X-WR-CALNAME:Расписание группы 3150801/00101
TIMEZONE-ID:Europe/Moscow
X-WR-TIMEZONE:Europe/Moscow
BEGIN:VEVENT
UID:5kj1@192.168.245.71:3006
SEQUENCE:0
DTSTAMP:20260423T000058Z
DTSTART:20260209T130000Z
DTEND:20260209T144000Z
SUMMARY:Организация проектирования с применением BIM
LOCATION:ГК-2 412а
END:VEVENT
BEGIN:VEVENT
UID:ey40@192.168.245.71:3006
SEQUENCE:0
DTSTAMP:20260423T000058Z
DTSTART:20260210T150000Z
DTEND:20260210T164000Z
SUMMARY:Конструкции инженерных сооружений
LOCATION:ГК-2 514
END:VEVENT
BEGIN:VEVENT
UID:4a7u@192.168.245.71:3006
SEQUENCE:0
DTSTAMP:20260423T000058Z
DTSTART:20260212T150000Z
DTEND:20260212T164000Z
SUMMARY:Инженерные системы уникальных зданий и сооружений
LOCATION:ГК-2 401
END:VEVENT
BEGIN:VEVENT
UID:dtw0@192.168.245.71:3006
SEQUENCE:0
DTSTAMP:20260423T000058Z
DTSTART:20260214T070000Z
DTEND:20260214T084000Z
SUMMARY:Управление проектами в строительстве
LOCATION:ГК-2 407
END:VEVENT
END:VCALENDAR