BEGIN:VCALENDAR
VERSION:2.0
PRODID:-//spbstu.ru//ical//RU
NAME:Расписание группы 3150801/00201
X-WR-CALNAME:Расписание группы 3150801/00201
TIMEZONE-ID:Europe/Moscow
X-WR-TIMEZONE:Europe/Moscow
BEGIN:VEVENT
UID:ia2h@192.168.245.71:3006
SEQUENCE:0
DTSTAMP:20260426T021240Z
DTSTART:20251006T070000Z
DTEND:20251006T084000Z
SUMMARY:Комплексное проектирование гидротехнических и энергетических соору
 жений
LOCATION:ГК-2 305
END:VEVENT
BEGIN:VEVENT
UID:l022@192.168.245.71:3006
SEQUENCE:0
DTSTAMP:20260426T021240Z
DTSTART:20251006T090000Z
DTEND:20251006T104000Z
SUMMARY:Комплексное проектирование гидротехнических и энергетических соору
 жений
LOCATION:ГК-2 305
END:VEVENT
BEGIN:VEVENT
UID:4v3i@192.168.245.71:3006
SEQUENCE:0
DTSTAMP:20260426T021240Z
DTSTART:20251006T110000Z
DTEND:20251006T124000Z
SUMMARY:Арктические ГТС
LOCATION:ГК-2 209
END:VEVENT
BEGIN:VEVENT
UID:vaai@192.168.245.71:3006
SEQUENCE:0
DTSTAMP:20260426T021240Z
DTSTART:20251006T130000Z
DTEND:20251006T144000Z
SUMMARY:Спецкурс по основаниям и фундаментам
LOCATION:ГК 216
END:VEVENT
BEGIN:VEVENT
UID:662v@192.168.245.71:3006
SEQUENCE:0
DTSTAMP:20260426T021240Z
DTSTART:20251008T070000Z
DTEND:20251008T084000Z
SUMMARY:Арктические ГТС
LOCATION:ГК-2 209
END:VEVENT
BEGIN:VEVENT
UID:fmpc@192.168.245.71:3006
SEQUENCE:0
DTSTAMP:20260426T021240Z
DTSTART:20251008T090000Z
DTEND:20251008T104000Z
SUMMARY:Конструкции инженерных сооружений
LOCATION:ГК-2 302
END:VEVENT
BEGIN:VEVENT
UID:p9dv@192.168.245.71:3006
SEQUENCE:0
DTSTAMP:20260426T021240Z
DTSTART:20251008T110000Z
DTEND:20251008T124000Z
SUMMARY:Конструкции инженерных сооружений
LOCATION:ГК-2 302
END:VEVENT
BEGIN:VEVENT
UID:u3c8@192.168.245.71:3006
SEQUENCE:0
DTSTAMP:20260426T021240Z
DTSTART:20251008T130000Z
DTEND:20251008T144000Z
SUMMARY:Управление проектами в ГТС
LOCATION:ГК-2 508
END:VEVENT
BEGIN:VEVENT
UID:q280@192.168.245.71:3006
SEQUENCE:0
DTSTAMP:20260426T021240Z
DTSTART:20251009T070000Z
DTEND:20251009T084000Z
SUMMARY:Морские трубопроводы
LOCATION:ГК-2 209
END:VEVENT
BEGIN:VEVENT
UID:h15l@192.168.245.71:3006
SEQUENCE:0
DTSTAMP:20260426T021240Z
DTSTART:20251009T090000Z
DTEND:20251009T104000Z
SUMMARY:Реконструкция зданий и сооружений
LOCATION:ГК-2 304
END:VEVENT
BEGIN:VEVENT
UID:4vgw@192.168.245.71:3006
SEQUENCE:0
DTSTAMP:20260426T021240Z
DTSTART:20251009T110000Z
DTEND:20251009T124000Z
SUMMARY:Реконструкция зданий и сооружений
LOCATION:ГК-2 304
END:VEVENT
BEGIN:VEVENT
UID:4w7g@192.168.245.71:3006
SEQUENCE:0
DTSTAMP:20260426T021240Z
DTSTART:20251009T130000Z
DTEND:20251009T144000Z
SUMMARY:Управление проектами в ГТС
LOCATION:ГК-2 508
END:VEVENT
BEGIN:VEVENT
UID:cwbx@192.168.245.71:3006
SEQUENCE:0
DTSTAMP:20260426T021240Z
DTSTART:20251010T110000Z
DTEND:20251010T124000Z
SUMMARY:Гидротехнические узлы машинного водоподъема
LOCATION:ГК-2 301а
END:VEVENT
BEGIN:VEVENT
UID:tl9o@192.168.245.71:3006
SEQUENCE:0
DTSTAMP:20260426T021240Z
DTSTART:20251010T130000Z
DTEND:20251010T144000Z
SUMMARY:Гидротехнические узлы машинного водоподъема
LOCATION:ГК-2 301а
END:VEVENT
END:VCALENDAR