BEGIN:VCALENDAR
VERSION:2.0
PRODID:-//spbstu.ru//ical//RU
NAME:Расписание группы 3150801/00201
X-WR-CALNAME:Расписание группы 3150801/00201
TIMEZONE-ID:Europe/Moscow
X-WR-TIMEZONE:Europe/Moscow
BEGIN:VEVENT
UID:nrgh@192.168.245.71:3006
SEQUENCE:0
DTSTAMP:20260424T112952Z
DTSTART:20251201T070000Z
DTEND:20251201T084000Z
SUMMARY:Комплексное проектирование гидротехнических и энергетических соору
 жений
LOCATION:ГК-2 305
END:VEVENT
BEGIN:VEVENT
UID:ejt6@192.168.245.71:3006
SEQUENCE:0
DTSTAMP:20260424T112952Z
DTSTART:20251201T090000Z
DTEND:20251201T104000Z
SUMMARY:Комплексное проектирование гидротехнических и энергетических соору
 жений
LOCATION:ГК-2 305
END:VEVENT
BEGIN:VEVENT
UID:o4n1@192.168.245.71:3006
SEQUENCE:0
DTSTAMP:20260424T112952Z
DTSTART:20251201T110000Z
DTEND:20251201T124000Z
SUMMARY:Арктические ГТС
LOCATION:ГК-2 209
END:VEVENT
BEGIN:VEVENT
UID:g7qu@192.168.245.71:3006
SEQUENCE:0
DTSTAMP:20260424T112952Z
DTSTART:20251201T130000Z
DTEND:20251201T144000Z
SUMMARY:Спецкурс по основаниям и фундаментам
LOCATION:ГК 216
END:VEVENT
BEGIN:VEVENT
UID:ic4f@192.168.245.71:3006
SEQUENCE:0
DTSTAMP:20260424T112952Z
DTSTART:20251203T070000Z
DTEND:20251203T084000Z
SUMMARY:Арктические ГТС
LOCATION:ГК-2 209
END:VEVENT
BEGIN:VEVENT
UID:jlt7@192.168.245.71:3006
SEQUENCE:0
DTSTAMP:20260424T112952Z
DTSTART:20251203T090000Z
DTEND:20251203T104000Z
SUMMARY:Конструкции инженерных сооружений
LOCATION:ГК-2 302
END:VEVENT
BEGIN:VEVENT
UID:n6ss@192.168.245.71:3006
SEQUENCE:0
DTSTAMP:20260424T112952Z
DTSTART:20251203T110000Z
DTEND:20251203T124000Z
SUMMARY:Конструкции инженерных сооружений
LOCATION:ГК-2 302
END:VEVENT
BEGIN:VEVENT
UID:f6ut@192.168.245.71:3006
SEQUENCE:0
DTSTAMP:20260424T112952Z
DTSTART:20251203T130000Z
DTEND:20251203T144000Z
SUMMARY:Управление проектами в ГТС
LOCATION:ГК-2 508
END:VEVENT
BEGIN:VEVENT
UID:huao@192.168.245.71:3006
SEQUENCE:0
DTSTAMP:20260424T112952Z
DTSTART:20251204T070000Z
DTEND:20251204T084000Z
SUMMARY:Морские трубопроводы
LOCATION:ГК-2 209
END:VEVENT
BEGIN:VEVENT
UID:1co0@192.168.245.71:3006
SEQUENCE:0
DTSTAMP:20260424T112952Z
DTSTART:20251204T090000Z
DTEND:20251204T104000Z
SUMMARY:Реконструкция зданий и сооружений
LOCATION:ГК-2 304
END:VEVENT
BEGIN:VEVENT
UID:bni8@192.168.245.71:3006
SEQUENCE:0
DTSTAMP:20260424T112952Z
DTSTART:20251204T110000Z
DTEND:20251204T124000Z
SUMMARY:Реконструкция зданий и сооружений
LOCATION:ГК-2 304
END:VEVENT
BEGIN:VEVENT
UID:p8bi@192.168.245.71:3006
SEQUENCE:0
DTSTAMP:20260424T112952Z
DTSTART:20251204T130000Z
DTEND:20251204T144000Z
SUMMARY:Управление проектами в ГТС
LOCATION:ГК-2 508
END:VEVENT
BEGIN:VEVENT
UID:qy7f@192.168.245.71:3006
SEQUENCE:0
DTSTAMP:20260424T112952Z
DTSTART:20251205T110000Z
DTEND:20251205T124000Z
SUMMARY:Гидротехнические узлы машинного водоподъема
LOCATION:ГК-2 301а
END:VEVENT
BEGIN:VEVENT
UID:klw0@192.168.245.71:3006
SEQUENCE:0
DTSTAMP:20260424T112952Z
DTSTART:20251205T130000Z
DTEND:20251205T144000Z
SUMMARY:Гидротехнические узлы машинного водоподъема
LOCATION:ГК-2 301а
END:VEVENT
END:VCALENDAR