BEGIN:VCALENDAR
VERSION:2.0
PRODID:-//spbstu.ru//ical//RU
NAME:Расписание группы в3130801/40001
X-WR-CALNAME:Расписание группы в3130801/40001
TIMEZONE-ID:Europe/Moscow
X-WR-TIMEZONE:Europe/Moscow
BEGIN:VEVENT
UID:ulef@192.168.245.71:3006
SEQUENCE:0
DTSTAMP:20260423T034142Z
DTSTART:20251124T153000Z
DTEND:20251124T171000Z
SUMMARY:Электротехника
LOCATION:17 уч.к. 309
END:VEVENT
BEGIN:VEVENT
UID:buzo@192.168.245.71:3006
SEQUENCE:0
DTSTAMP:20260423T034142Z
DTSTART:20251124T171000Z
DTEND:20251124T185500Z
SUMMARY:Электротехника
LOCATION:17 уч.к. 309
END:VEVENT
BEGIN:VEVENT
UID:lnnu@192.168.245.71:3006
SEQUENCE:0
DTSTAMP:20260423T034142Z
DTSTART:20251125T153000Z
DTEND:20251125T171000Z
SUMMARY:Теоретическая механика
LOCATION:ГК 229
END:VEVENT
BEGIN:VEVENT
UID:q01i@192.168.245.71:3006
SEQUENCE:0
DTSTAMP:20260423T034142Z
DTSTART:20251125T171500Z
DTEND:20251125T185500Z
SUMMARY:Теоретическая механика
LOCATION:ГК 229
END:VEVENT
BEGIN:VEVENT
UID:qjch@192.168.245.71:3006
SEQUENCE:0
DTSTAMP:20260423T034142Z
DTSTART:20251126T153000Z
DTEND:20251126T171000Z
SUMMARY:Высшая математика
LOCATION:ГК 229
END:VEVENT
BEGIN:VEVENT
UID:wi49@192.168.245.71:3006
SEQUENCE:0
DTSTAMP:20260423T034142Z
DTSTART:20251126T171500Z
DTEND:20251126T185500Z
SUMMARY:Высшая математика
LOCATION:ГК 229
END:VEVENT
BEGIN:VEVENT
UID:7nw8@192.168.245.71:3006
SEQUENCE:0
DTSTAMP:20260423T034142Z
DTSTART:20251127T153000Z
DTEND:20251127T171000Z
SUMMARY:Иностранный язык: Базовый курс
LOCATION:ГК 229
END:VEVENT
BEGIN:VEVENT
UID:4ftc@192.168.245.71:3006
SEQUENCE:0
DTSTAMP:20260423T034142Z
DTSTART:20251127T171500Z
DTEND:20251127T185500Z
SUMMARY:История России
LOCATION:ГК-2 405
END:VEVENT
BEGIN:VEVENT
UID:8ggl@192.168.245.71:3006
SEQUENCE:0
DTSTAMP:20260423T034142Z
DTSTART:20251128T153000Z
DTEND:20251128T171000Z
SUMMARY:Архитектура
LOCATION:ГК-2 412
END:VEVENT
BEGIN:VEVENT
UID:izrh@192.168.245.71:3006
SEQUENCE:0
DTSTAMP:20260423T034142Z
DTSTART:20251129T090000Z
DTEND:20251129T104000Z
SUMMARY:Модуль саморазвития (SoftSkills)
LOCATION:DL Дистанционно
END:VEVENT
END:VCALENDAR