BEGIN:VCALENDAR
VERSION:2.0
PRODID:-//spbstu.ru//ical//RU
NAME:Расписание группы в3130801/40001
X-WR-CALNAME:Расписание группы в3130801/40001
TIMEZONE-ID:Europe/Moscow
X-WR-TIMEZONE:Europe/Moscow
BEGIN:VEVENT
UID:6pqa@192.168.245.71:3006
SEQUENCE:0
DTSTAMP:20260425T230101Z
DTSTART:20250909T153000Z
DTEND:20250909T171000Z
SUMMARY:Строительные материалы
LOCATION:ГК 113
END:VEVENT
BEGIN:VEVENT
UID:7oty@192.168.245.71:3006
SEQUENCE:0
DTSTAMP:20260425T230101Z
DTSTART:20250909T171500Z
DTEND:20250909T185500Z
SUMMARY:Основы проектирования зданий и сооружений
LOCATION:ГК-2 404
END:VEVENT
BEGIN:VEVENT
UID:10o8@192.168.245.71:3006
SEQUENCE:0
DTSTAMP:20260425T230101Z
DTSTART:20250910T153000Z
DTEND:20250910T171000Z
SUMMARY:Высшая математика
LOCATION:ГК 229
END:VEVENT
BEGIN:VEVENT
UID:zyon@192.168.245.71:3006
SEQUENCE:0
DTSTAMP:20260425T230101Z
DTSTART:20250910T171500Z
DTEND:20250910T185500Z
SUMMARY:Высшая математика
LOCATION:ГК 229
END:VEVENT
BEGIN:VEVENT
UID:brdj@192.168.245.71:3006
SEQUENCE:0
DTSTAMP:20260425T230101Z
DTSTART:20250911T153000Z
DTEND:20250911T171000Z
SUMMARY:Иностранный язык: Базовый курс
LOCATION:ГК 229
END:VEVENT
BEGIN:VEVENT
UID:m9fx@192.168.245.71:3006
SEQUENCE:0
DTSTAMP:20260425T230101Z
DTSTART:20250911T171500Z
DTEND:20250911T185500Z
SUMMARY:История России
LOCATION:ГК-2 405
END:VEVENT
BEGIN:VEVENT
UID:zh0l@192.168.245.71:3006
SEQUENCE:0
DTSTAMP:20260425T230101Z
DTSTART:20250912T140000Z
DTEND:20250912T150000Z
SUMMARY:Химия
LOCATION:Хим. к. 51
END:VEVENT
BEGIN:VEVENT
UID:i1yy@192.168.245.71:3006
SEQUENCE:0
DTSTAMP:20260425T230101Z
DTSTART:20250912T153000Z
DTEND:20250912T171000Z
SUMMARY:Гидравлика
LOCATION:ГК 123а
END:VEVENT
BEGIN:VEVENT
UID:dma9@192.168.245.71:3006
SEQUENCE:0
DTSTAMP:20260425T230101Z
DTSTART:20250912T171500Z
DTEND:20250912T185500Z
SUMMARY:Гидравлика
LOCATION:ГК 123б
END:VEVENT
END:VCALENDAR