BEGIN:VCALENDAR
VERSION:2.0
PRODID:-//spbstu.ru//ical//RU
NAME:Расписание группы в3130801/40001
X-WR-CALNAME:Расписание группы в3130801/40001
TIMEZONE-ID:Europe/Moscow
X-WR-TIMEZONE:Europe/Moscow
BEGIN:VEVENT
UID:5mdk@192.168.245.71:3006
SEQUENCE:0
DTSTAMP:20260422T032225Z
DTSTART:20260202T153000Z
DTEND:20260202T171000Z
SUMMARY:Сопротивление материалов
LOCATION:ГК 229
END:VEVENT
BEGIN:VEVENT
UID:el5v@192.168.245.71:3006
SEQUENCE:0
DTSTAMP:20260422T032225Z
DTSTART:20260203T153000Z
DTEND:20260203T171000Z
SUMMARY:Архитектура
LOCATION:ГК-2 405
END:VEVENT
BEGIN:VEVENT
UID:hmqq@192.168.245.71:3006
SEQUENCE:0
DTSTAMP:20260422T032225Z
DTSTART:20260203T171500Z
DTEND:20260203T185500Z
SUMMARY:Гидравлика
LOCATION:ГК 123а
END:VEVENT
BEGIN:VEVENT
UID:isr1@192.168.245.71:3006
SEQUENCE:0
DTSTAMP:20260422T032225Z
DTSTART:20260204T153000Z
DTEND:20260204T171000Z
SUMMARY:Геология
LOCATION:ГК-2 313
END:VEVENT
BEGIN:VEVENT
UID:rmtv@192.168.245.71:3006
SEQUENCE:0
DTSTAMP:20260422T032225Z
DTSTART:20260205T153000Z
DTEND:20260205T171000Z
SUMMARY:Строительная механика
LOCATION:ГК-2 309
END:VEVENT
BEGIN:VEVENT
UID:np6l@192.168.245.71:3006
SEQUENCE:0
DTSTAMP:20260422T032225Z
DTSTART:20260206T153000Z
DTEND:20260206T171000Z
SUMMARY:Иностранный язык. Профессионально-ориентированный курс
LOCATION:ГК 229
END:VEVENT
END:VCALENDAR