BEGIN:VCALENDAR
VERSION:2.0
PRODID:-//spbstu.ru//ical//RU
NAME:Расписание группы в3130801/30601
X-WR-CALNAME:Расписание группы в3130801/30601
TIMEZONE-ID:Europe/Moscow
X-WR-TIMEZONE:Europe/Moscow
BEGIN:VEVENT
UID:qo8t@192.168.245.71:3006
SEQUENCE:0
DTSTAMP:20260421T093301Z
DTSTART:20260420T153000Z
DTEND:20260420T171000Z
SUMMARY:Автоматизированный расчет строительных конструкций
LOCATION:ГК-2 506
END:VEVENT
BEGIN:VEVENT
UID:4117@192.168.245.71:3006
SEQUENCE:0
DTSTAMP:20260421T093301Z
DTSTART:20260421T153000Z
DTEND:20260421T171000Z
SUMMARY:Основы управления проектами
LOCATION:DL Дистанционно
END:VEVENT
BEGIN:VEVENT
UID:3mk1@192.168.245.71:3006
SEQUENCE:0
DTSTAMP:20260421T093301Z
DTSTART:20260421T171500Z
DTEND:20260421T185500Z
SUMMARY:Основы управления проектами
LOCATION:DL Дистанционно
END:VEVENT
BEGIN:VEVENT
UID:jpig@192.168.245.71:3006
SEQUENCE:0
DTSTAMP:20260421T093301Z
DTSTART:20260422T153000Z
DTEND:20260422T171000Z
SUMMARY:Автоматизированный расчет строительных конструкций
LOCATION:ГК-2 506
END:VEVENT
BEGIN:VEVENT
UID:o4o6@192.168.245.71:3006
SEQUENCE:0
DTSTAMP:20260421T093301Z
DTSTART:20260423T153000Z
DTEND:20260423T171000Z
SUMMARY:Основания и фундаменты
LOCATION:ГК-2 315
END:VEVENT
BEGIN:VEVENT
UID:rovj@192.168.245.71:3006
SEQUENCE:0
DTSTAMP:20260421T093301Z
DTSTART:20260424T153000Z
DTEND:20260424T171000Z
SUMMARY:Генеративное проектирование зданий и сооружений
LOCATION:ГК-2 504
END:VEVENT
BEGIN:VEVENT
UID:f2c4@192.168.245.71:3006
SEQUENCE:0
DTSTAMP:20260421T093301Z
DTSTART:20260424T171500Z
DTEND:20260424T185500Z
SUMMARY:Генеративное проектирование зданий и сооружений
LOCATION:ГК-2 504
END:VEVENT
END:VCALENDAR