BEGIN:VCALENDAR
VERSION:2.0
PRODID:-//spbstu.ru//ical//RU
NAME:Расписание группы в3135401/20101
X-WR-CALNAME:Расписание группы в3135401/20101
TIMEZONE-ID:Europe/Moscow
X-WR-TIMEZONE:Europe/Moscow
BEGIN:VEVENT
UID:jx5f@192.168.245.71:3006
SEQUENCE:0
DTSTAMP:20260425T134620Z
DTSTART:20250908T153000Z
DTEND:20250908T171000Z
SUMMARY:Макетирование
LOCATION:ГЗ 303 (6)
END:VEVENT
BEGIN:VEVENT
UID:hqye@192.168.245.71:3006
SEQUENCE:0
DTSTAMP:20260425T134620Z
DTSTART:20250909T153000Z
DTEND:20250909T171000Z
SUMMARY:Дизайн-проектирование
LOCATION:ГЗ 301 А
END:VEVENT
BEGIN:VEVENT
UID:yb1c@192.168.245.71:3006
SEQUENCE:0
DTSTAMP:20260425T134620Z
DTSTART:20250909T171500Z
DTEND:20250909T185500Z
SUMMARY:Проектирование информационных систем
LOCATION:ГЗ 301 А
END:VEVENT
BEGIN:VEVENT
UID:iuhk@192.168.245.71:3006
SEQUENCE:0
DTSTAMP:20260425T134620Z
DTSTART:20250911T153000Z
DTEND:20250911T171000Z
SUMMARY:Проектирование объектов пространственной среды
LOCATION:ГЗ 303 (6)
END:VEVENT
BEGIN:VEVENT
UID:flio@192.168.245.71:3006
SEQUENCE:0
DTSTAMP:20260425T134620Z
DTSTART:20250912T153000Z
DTEND:20250912T171000Z
SUMMARY:Материаловедение
LOCATION:ГЗ 57
END:VEVENT
END:VCALENDAR