BEGIN:VCALENDAR
VERSION:2.0
PRODID:-//spbstu.ru//ical//RU
NAME:Расписание группы в3135401/20101
X-WR-CALNAME:Расписание группы в3135401/20101
TIMEZONE-ID:Europe/Moscow
X-WR-TIMEZONE:Europe/Moscow
BEGIN:VEVENT
UID:zf6u@192.168.245.71:3006
SEQUENCE:0
DTSTAMP:20260421T015925Z
DTSTART:20260504T153000Z
DTEND:20260504T171000Z
SUMMARY:Инженерное проектирование
LOCATION:ГЗ 303 (6)
END:VEVENT
BEGIN:VEVENT
UID:i46w@192.168.245.71:3006
SEQUENCE:0
DTSTAMP:20260421T015925Z
DTSTART:20260507T153000Z
DTEND:20260507T171000Z
SUMMARY:Дизайн интерфейсов
LOCATION:ГЗ 303 (6)
END:VEVENT
END:VCALENDAR